OziExplorer Map Data File Version 2.2
500k--xg20-4.gif
500k--xg20-4.gif
1 ,Map Code,
Pulkovo 1942 (2),WGS 84, 0.0000, 0.0000,WGS 84
Reserved 1
Reserved 2
Magnetic Variation,,,E
Map Projection,Transverse Mercator,PolyCal,No,AutoCalOnly,No,BSBUseWPX,No
Point01,xy, 56, 66,in, deg, 26, 0.0000,S, 63, 0.0000,W, grid, , , ,N
Point02,xy, 1832, 62,in, deg, 26, 0.0000,S, 61, 30.0000,W, grid, , , ,N
Point03,xy, 3609, 72,in, deg, 26, 0.0000,S, 60, 0.0000,W, grid, , , ,N
Point04,xy, 71, 1372,in, deg, 27, 0.0000,S, 63, 0.0000,W, grid, , , ,N
Point05,xy, 1832, 1366,in, deg, 27, 0.0000,S, 61, 30.0000,W, grid, , , ,N
Point06,xy, 3593, 1378,in, deg, 27, 0.0000,S, 60, 0.0000,W, grid, , , ,N
Point07,xy, 88, 2678,in, deg, 28, 0.0000,S, 63, 0.0000,W, grid, , , ,N
Point08,xy, 1832, 2673,in, deg, 28, 0.0000,S, 61, 30.0000,W, grid, , , ,N
Point09,xy, 3577, 2687,in, deg, 28, 0.0000,S, 60, 0.0000,W, grid, , , ,N
Point10,xy, , ,in, deg, , ,N, , ,W, grid, , , ,N
Point11,xy, , ,in, deg, , ,N, , ,W, grid, , , ,N
Point12,xy, , ,in, deg, , ,N, , ,W, grid, , , ,N
Point13,xy, , ,in, deg, , ,N, , ,W, grid, , , ,N
Point14,xy, , ,in, deg, , ,N, , ,W, grid, , , ,N
Point15,xy, , ,in, deg, , ,N, , ,W, grid, , , ,N
Point16,xy, , ,in, deg, , ,N, , ,W, grid, , , ,N
Point17,xy, , ,in, deg, , ,N, , ,W, grid, , , ,N
Point18,xy, , ,in, deg, , ,N, , ,W, grid, , , ,N
Point19,xy, , ,in, deg, , ,N, , ,W, grid, , , ,N
Point20,xy, , ,in, deg, , ,N, , ,W, grid, , , ,N
Point21,xy, , ,in, deg, , ,N, , ,W, grid, , , ,N
Point22,xy, , ,in, deg, , ,N, , ,W, grid, , , ,N
Point23,xy, , ,in, deg, , ,N, , ,W, grid, , , ,N
Point24,xy, , ,in, deg, , ,N, , ,W, grid, , , ,N
Point25,xy, , ,in, deg, , ,N, , ,W, grid, , , ,N
Point26,xy, , ,in, deg, , ,N, , ,W, grid, , , ,N
Point27,xy, , ,in, deg, , ,N, , ,W, grid, , , ,N
Point28,xy, , ,in, deg, , ,N, , ,W, grid, , , ,N
Point29,xy, , ,in, deg, , ,N, , ,W, grid, , , ,N
Point30,xy, , ,in, deg, , ,N, , ,W, grid, , , ,N
Projection Setup, 0.000000000, -63.000000000, 1.000000000, 500000.00, 10000000.00,,,,,
Map Feature = MF ; Map Comment = MC These follow if they exist
Track File = TF These follow if they exist
Moving Map Parameters = MM? These follow if they exist
MM0,Yes
MMPNUM,4
MMPXY,1,56,66
MMPXY,2,3609,72
MMPXY,3,3577,2687
MMPXY,4,88,2678
MMPLL,1, -63.000000, -26.000000
MMPLL,2, -60.000000, -26.000000
MMPLL,3, -60.000000, -28.000000
MMPLL,4, -63.000000, -28.000000
MM1B,80.903790
MOP,Map Open Position,0,0
IWH,Map Image Width/Height,3660,2744
