OziExplorer Map Data File Version 2.2
500k--xg19-4.gif
500k--xg19-4.gif
1 ,Map Code,
Pulkovo 1942 (2),WGS 84, 0.0000, 0.0000,WGS 84
Reserved 1
Reserved 2
Magnetic Variation,,,E
Map Projection,Transverse Mercator,PolyCal,No,AutoCalOnly,No,BSBUseWPX,No
Point01,xy, 47, 63,in, deg, 26, 0.0000,S, 69, 0.0000,W, grid, , , ,N
Point02,xy, 1821, 57,in, deg, 26, 0.0000,S, 67, 30.0000,W, grid, , , ,N
Point03,xy, 3596, 70,in, deg, 26, 0.0000,S, 66, 0.0000,W, grid, , , ,N
Point04,xy, 63, 1371,in, deg, 27, 0.0000,S, 69, 0.0000,W, grid, , , ,N
Point05,xy, 1822, 1367,in, deg, 27, 0.0000,S, 67, 30.0000,W, grid, , , ,N
Point06,xy, 3582, 1377,in, deg, 27, 0.0000,S, 66, 0.0000,W, grid, , , ,N
Point07,xy, 79, 2681,in, deg, 28, 0.0000,S, 69, 0.0000,W, grid, , , ,N
Point08,xy, 1822, 2675,in, deg, 28, 0.0000,S, 67, 30.0000,W, grid, , , ,N
Point09,xy, 3567, 2686,in, deg, 28, 0.0000,S, 66, 0.0000,W, grid, , , ,N
Point10,xy, , ,in, deg, , ,N, , ,W, grid, , , ,N
Point11,xy, , ,in, deg, , ,N, , ,W, grid, , , ,N
Point12,xy, , ,in, deg, , ,N, , ,W, grid, , , ,N
Point13,xy, , ,in, deg, , ,N, , ,W, grid, , , ,N
Point14,xy, , ,in, deg, , ,N, , ,W, grid, , , ,N
Point15,xy, , ,in, deg, , ,N, , ,W, grid, , , ,N
Point16,xy, , ,in, deg, , ,N, , ,W, grid, , , ,N
Point17,xy, , ,in, deg, , ,N, , ,W, grid, , , ,N
Point18,xy, , ,in, deg, , ,N, , ,W, grid, , , ,N
Point19,xy, , ,in, deg, , ,N, , ,W, grid, , , ,N
Point20,xy, , ,in, deg, , ,N, , ,W, grid, , , ,N
Point21,xy, , ,in, deg, , ,N, , ,W, grid, , , ,N
Point22,xy, , ,in, deg, , ,N, , ,W, grid, , , ,N
Point23,xy, , ,in, deg, , ,N, , ,W, grid, , , ,N
Point24,xy, , ,in, deg, , ,N, , ,W, grid, , , ,N
Point25,xy, , ,in, deg, , ,N, , ,W, grid, , , ,N
Point26,xy, , ,in, deg, , ,N, , ,W, grid, , , ,N
Point27,xy, , ,in, deg, , ,N, , ,W, grid, , , ,N
Point28,xy, , ,in, deg, , ,N, , ,W, grid, , , ,N
Point29,xy, , ,in, deg, , ,N, , ,W, grid, , , ,N
Point30,xy, , ,in, deg, , ,N, , ,W, grid, , , ,N
Projection Setup, 0.000000000, -69.000000000, 1.000000000, 500000.00, 10000000.00,,,,,
Map Feature = MF ; Map Comment = MC These follow if they exist
Track File = TF These follow if they exist
Moving Map Parameters = MM? These follow if they exist
MM0,Yes
MMPNUM,4
MMPXY,1,47,63
MMPXY,2,3596,70
MMPXY,3,3567,2686
MMPXY,4,79,2681
MMPLL,1, -69.000000, -26.000000
MMPLL,2, -66.000000, -26.000000
MMPLL,3, -66.000000, -28.000000
MMPLL,4, -69.000000, -28.000000
MM1B,81.021898
MOP,Map Open Position,0,0
IWH,Map Image Width/Height,3646,2740
