OziExplorer Map Data File Version 2.2
500k--xd35-4.gif
500k--xd35-4.gif
1 ,Map Code,
Pulkovo 1942 (2),WGS 84, 0.0000, 0.0000,WGS 84
Reserved 1
Reserved 2
Magnetic Variation,,,E
Map Projection,Transverse Mercator,PolyCal,No,AutoCalOnly,No,BSBUseWPX,No
Point01,xy, 79, 74,in, deg, 14, 0.0000,S, 27, 0.0000,E, grid, , , ,N
Point02,xy, 2250, 71,in, deg, 14, 0.0000,S, 28, 30.0000,E, grid, , , ,N
Point03,xy, 4421, 79,in, deg, 14, 0.0000,S, 30, 0.0000,E, grid, , , ,N
Point04,xy, 82, 1552,in, deg, 15, 0.0000,S, 27, 0.0000,E, grid, , , ,N
Point05,xy, 2243, 1551,in, deg, 15, 0.0000,S, 28, 30.0000,E, grid, , , ,N
Point06,xy, 4402, 1559,in, deg, 15, 0.0000,S, 30, 0.0000,E, grid, , , ,N
Point07,xy, 85, 3029,in, deg, 16, 0.0000,S, 27, 0.0000,E, grid, , , ,N
Point08,xy, 2237, 3029,in, deg, 16, 0.0000,S, 28, 30.0000,E, grid, , , ,N
Point09,xy, 4387, 3039,in, deg, 16, 0.0000,S, 30, 0.0000,E, grid, , , ,N
Point10,xy, , ,in, deg, , ,N, , ,W, grid, , , ,N
Point11,xy, , ,in, deg, , ,N, , ,W, grid, , , ,N
Point12,xy, , ,in, deg, , ,N, , ,W, grid, , , ,N
Point13,xy, , ,in, deg, , ,N, , ,W, grid, , , ,N
Point14,xy, , ,in, deg, , ,N, , ,W, grid, , , ,N
Point15,xy, , ,in, deg, , ,N, , ,W, grid, , , ,N
Point16,xy, , ,in, deg, , ,N, , ,W, grid, , , ,N
Point17,xy, , ,in, deg, , ,N, , ,W, grid, , , ,N
Point18,xy, , ,in, deg, , ,N, , ,W, grid, , , ,N
Point19,xy, , ,in, deg, , ,N, , ,W, grid, , , ,N
Point20,xy, , ,in, deg, , ,N, , ,W, grid, , , ,N
Point21,xy, , ,in, deg, , ,N, , ,W, grid, , , ,N
Point22,xy, , ,in, deg, , ,N, , ,W, grid, , , ,N
Point23,xy, , ,in, deg, , ,N, , ,W, grid, , , ,N
Point24,xy, , ,in, deg, , ,N, , ,W, grid, , , ,N
Point25,xy, , ,in, deg, , ,N, , ,W, grid, , , ,N
Point26,xy, , ,in, deg, , ,N, , ,W, grid, , , ,N
Point27,xy, , ,in, deg, , ,N, , ,W, grid, , , ,N
Point28,xy, , ,in, deg, , ,N, , ,W, grid, , , ,N
Point29,xy, , ,in, deg, , ,N, , ,W, grid, , , ,N
Point30,xy, , ,in, deg, , ,N, , ,W, grid, , , ,N
Projection Setup, 0.000000000, 27.000000000, 1.000000000, 500000.00, 10000000.00,,,,,
Map Feature = MF ; Map Comment = MC These follow if they exist
Track File = TF These follow if they exist
Moving Map Parameters = MM? These follow if they exist
MM0,Yes
MMPNUM,4
MMPXY,1,79,74
MMPXY,2,4421,79
MMPXY,3,4387,3039
MMPXY,4,85,3029
MMPLL,1, 27.000000, -14.000000
MMPLL,2, 30.000000, -14.000000
MMPLL,3, 30.000000, -16.000000
MMPLL,4, 27.000000, -16.000000
MM1B,71.612903
MOP,Map Open Position,0,0
IWH,Map Image Width/Height,4497,3100
