OziExplorer Map Data File Version 2.2
500k--xc37-4.gif
500k--xc37-4.gif
1 ,Map Code,
Pulkovo 1942 (2),WGS 84, 0.0000, 0.0000,WGS 84
Reserved 1
Reserved 2
Magnetic Variation,,,E
Map Projection,Transverse Mercator,PolyCal,No,AutoCalOnly,No,BSBUseWPX,No
Point01,xy, 60, 73,in, deg, 10, 0.0000,S, 39, 0.0000,E, grid, , , ,N
Point02,xy, 2263, 58,in, deg, 10, 0.0000,S, 40, 30.0000,E, grid, , , ,N
Point03,xy, 4466, 59,in, deg, 10, 0.0000,S, 42, 0.0000,E, grid, , , ,N
Point04,xy, 67, 1552,in, deg, 11, 0.0000,S, 39, 0.0000,E, grid, , , ,N
Point05,xy, 2263, 1537,in, deg, 11, 0.0000,S, 40, 30.0000,E, grid, , , ,N
Point06,xy, 4458, 1539,in, deg, 11, 0.0000,S, 42, 0.0000,E, grid, , , ,N
Point07,xy, 73, 3030,in, deg, 12, 0.0000,S, 39, 0.0000,E, grid, , , ,N
Point08,xy, 2262, 3017,in, deg, 12, 0.0000,S, 40, 30.0000,E, grid, , , ,N
Point09,xy, 4451, 3019,in, deg, 12, 0.0000,S, 42, 0.0000,E, grid, , , ,N
Point10,xy, , ,in, deg, , ,N, , ,W, grid, , , ,N
Point11,xy, , ,in, deg, , ,N, , ,W, grid, , , ,N
Point12,xy, , ,in, deg, , ,N, , ,W, grid, , , ,N
Point13,xy, , ,in, deg, , ,N, , ,W, grid, , , ,N
Point14,xy, , ,in, deg, , ,N, , ,W, grid, , , ,N
Point15,xy, , ,in, deg, , ,N, , ,W, grid, , , ,N
Point16,xy, , ,in, deg, , ,N, , ,W, grid, , , ,N
Point17,xy, , ,in, deg, , ,N, , ,W, grid, , , ,N
Point18,xy, , ,in, deg, , ,N, , ,W, grid, , , ,N
Point19,xy, , ,in, deg, , ,N, , ,W, grid, , , ,N
Point20,xy, , ,in, deg, , ,N, , ,W, grid, , , ,N
Point21,xy, , ,in, deg, , ,N, , ,W, grid, , , ,N
Point22,xy, , ,in, deg, , ,N, , ,W, grid, , , ,N
Point23,xy, , ,in, deg, , ,N, , ,W, grid, , , ,N
Point24,xy, , ,in, deg, , ,N, , ,W, grid, , , ,N
Point25,xy, , ,in, deg, , ,N, , ,W, grid, , , ,N
Point26,xy, , ,in, deg, , ,N, , ,W, grid, , , ,N
Point27,xy, , ,in, deg, , ,N, , ,W, grid, , , ,N
Point28,xy, , ,in, deg, , ,N, , ,W, grid, , , ,N
Point29,xy, , ,in, deg, , ,N, , ,W, grid, , , ,N
Point30,xy, , ,in, deg, , ,N, , ,W, grid, , , ,N
Projection Setup, 0.000000000, 39.000000000, 1.000000000, 500000.00, 10000000.00,,,,,
Map Feature = MF ; Map Comment = MC These follow if they exist
Track File = TF These follow if they exist
Moving Map Parameters = MM? These follow if they exist
MM0,Yes
MMPNUM,4
MMPXY,1,60,73
MMPXY,2,4466,59
MMPXY,3,4451,3019
MMPXY,4,73,3030
MMPLL,1, 39.000000, -10.000000
MMPLL,2, 42.000000, -10.000000
MMPLL,3, 42.000000, -12.000000
MMPLL,4, 39.000000, -12.000000
MM1B,71.961102
MOP,Map Open Position,0,0
IWH,Map Image Width/Height,4531,3085
