OziExplorer Map Data File Version 2.2
500k--xc20-4.gif
500k--xc20-4.gif
1 ,Map Code,
Pulkovo 1942 (2),WGS 84, 0.0000, 0.0000,WGS 84
Reserved 1
Reserved 2
Magnetic Variation,,,E
Map Projection,Transverse Mercator,PolyCal,No,AutoCalOnly,No,BSBUseWPX,No
Point01,xy, 50, 68,in, deg, 10, 0.0000,S, 63, 0.0000,W, grid, , , ,N
Point02,xy, 1995, 63,in, deg, 10, 0.0000,S, 61, 30.0000,W, grid, , , ,N
Point03,xy, 3940, 67,in, deg, 10, 0.0000,S, 60, 0.0000,W, grid, , , ,N
Point04,xy, 59, 1374,in, deg, 11, 0.0000,S, 63, 0.0000,W, grid, , , ,N
Point05,xy, 1996, 1371,in, deg, 11, 0.0000,S, 61, 30.0000,W, grid, , , ,N
Point06,xy, 3935, 1375,in, deg, 11, 0.0000,S, 60, 0.0000,W, grid, , , ,N
Point07,xy, 68, 2682,in, deg, 12, 0.0000,S, 63, 0.0000,W, grid, , , ,N
Point08,xy, 1998, 2679,in, deg, 12, 0.0000,S, 61, 30.0000,W, grid, , , ,N
Point09,xy, 3930, 2684,in, deg, 12, 0.0000,S, 60, 0.0000,W, grid, , , ,N
Point10,xy, , ,in, deg, , ,N, , ,W, grid, , , ,N
Point11,xy, , ,in, deg, , ,N, , ,W, grid, , , ,N
Point12,xy, , ,in, deg, , ,N, , ,W, grid, , , ,N
Point13,xy, , ,in, deg, , ,N, , ,W, grid, , , ,N
Point14,xy, , ,in, deg, , ,N, , ,W, grid, , , ,N
Point15,xy, , ,in, deg, , ,N, , ,W, grid, , , ,N
Point16,xy, , ,in, deg, , ,N, , ,W, grid, , , ,N
Point17,xy, , ,in, deg, , ,N, , ,W, grid, , , ,N
Point18,xy, , ,in, deg, , ,N, , ,W, grid, , , ,N
Point19,xy, , ,in, deg, , ,N, , ,W, grid, , , ,N
Point20,xy, , ,in, deg, , ,N, , ,W, grid, , , ,N
Point21,xy, , ,in, deg, , ,N, , ,W, grid, , , ,N
Point22,xy, , ,in, deg, , ,N, , ,W, grid, , , ,N
Point23,xy, , ,in, deg, , ,N, , ,W, grid, , , ,N
Point24,xy, , ,in, deg, , ,N, , ,W, grid, , , ,N
Point25,xy, , ,in, deg, , ,N, , ,W, grid, , , ,N
Point26,xy, , ,in, deg, , ,N, , ,W, grid, , , ,N
Point27,xy, , ,in, deg, , ,N, , ,W, grid, , , ,N
Point28,xy, , ,in, deg, , ,N, , ,W, grid, , , ,N
Point29,xy, , ,in, deg, , ,N, , ,W, grid, , , ,N
Point30,xy, , ,in, deg, , ,N, , ,W, grid, , , ,N
Projection Setup, 0.000000000, -63.000000000, 1.000000000, 500000.00, 10000000.00,,,,,
Map Feature = MF ; Map Comment = MC These follow if they exist
Track File = TF These follow if they exist
Moving Map Parameters = MM? These follow if they exist
MM0,Yes
MMPNUM,4
MMPXY,1,50,68
MMPXY,2,3940,67
MMPXY,3,3930,2684
MMPXY,4,68,2682
MMPLL,1, -63.000000, -10.000000
MMPLL,2, -60.000000, -10.000000
MMPLL,3, -60.000000, -12.000000
MMPLL,4, -63.000000, -12.000000
MM1B,81.051479
MOP,Map Open Position,0,0
IWH,Map Image Width/Height,4000,2739
