OziExplorer Map Data File Version 2.2
500k--xb37-2.gif
500k--xb37-2.gif
1 ,Map Code,
Pulkovo 1942 (2),WGS 84, 0.0000, 0.0000,WGS 84
Reserved 1
Reserved 2
Magnetic Variation,,,E
Map Projection,Transverse Mercator,PolyCal,No,AutoCalOnly,No,BSBUseWPX,No
Point01,xy, 70, 71,in, deg, 4, 0.0000,S, 39, 0.0000,E, grid, , , ,N
Point02,xy, 2301, 68,in, deg, 4, 0.0000,S, 40, 30.0000,E, grid, , , ,N
Point03,xy, 4537, 72,in, deg, 4, 0.0000,S, 42, 0.0000,E, grid, , , ,N
Point04,xy, 68, 1546,in, deg, 5, 0.0000,S, 39, 0.0000,E, grid, , , ,N
Point05,xy, 2295, 1547,in, deg, 5, 0.0000,S, 40, 30.0000,E, grid, , , ,N
Point06,xy, 4525, 1552,in, deg, 5, 0.0000,S, 42, 0.0000,E, grid, , , ,N
Point07,xy, 63, 3024,in, deg, 6, 0.0000,S, 39, 0.0000,E, grid, , , ,N
Point08,xy, 2289, 3022,in, deg, 6, 0.0000,S, 40, 30.0000,E, grid, , , ,N
Point09,xy, 4513, 3030,in, deg, 6, 0.0000,S, 42, 0.0000,E, grid, , , ,N
Point10,xy, , ,in, deg, , ,N, , ,W, grid, , , ,N
Point11,xy, , ,in, deg, , ,N, , ,W, grid, , , ,N
Point12,xy, , ,in, deg, , ,N, , ,W, grid, , , ,N
Point13,xy, , ,in, deg, , ,N, , ,W, grid, , , ,N
Point14,xy, , ,in, deg, , ,N, , ,W, grid, , , ,N
Point15,xy, , ,in, deg, , ,N, , ,W, grid, , , ,N
Point16,xy, , ,in, deg, , ,N, , ,W, grid, , , ,N
Point17,xy, , ,in, deg, , ,N, , ,W, grid, , , ,N
Point18,xy, , ,in, deg, , ,N, , ,W, grid, , , ,N
Point19,xy, , ,in, deg, , ,N, , ,W, grid, , , ,N
Point20,xy, , ,in, deg, , ,N, , ,W, grid, , , ,N
Point21,xy, , ,in, deg, , ,N, , ,W, grid, , , ,N
Point22,xy, , ,in, deg, , ,N, , ,W, grid, , , ,N
Point23,xy, , ,in, deg, , ,N, , ,W, grid, , , ,N
Point24,xy, , ,in, deg, , ,N, , ,W, grid, , , ,N
Point25,xy, , ,in, deg, , ,N, , ,W, grid, , , ,N
Point26,xy, , ,in, deg, , ,N, , ,W, grid, , , ,N
Point27,xy, , ,in, deg, , ,N, , ,W, grid, , , ,N
Point28,xy, , ,in, deg, , ,N, , ,W, grid, , , ,N
Point29,xy, , ,in, deg, , ,N, , ,W, grid, , , ,N
Point30,xy, , ,in, deg, , ,N, , ,W, grid, , , ,N
Projection Setup, 0.000000000, 39.000000000, 1.000000000, 500000.00, 10000000.00,,,,,
Map Feature = MF ; Map Comment = MC These follow if they exist
Track File = TF These follow if they exist
Moving Map Parameters = MM? These follow if they exist
MM0,Yes
MMPNUM,4
MMPXY,1,70,71
MMPXY,2,4537,72
MMPXY,3,4513,3030
MMPXY,4,63,3024
MMPLL,1, 39.000000, -4.000000
MMPLL,2, 42.000000, -4.000000
MMPLL,3, 42.000000, -6.000000
MMPLL,4, 39.000000, -6.000000
MM1B,71.774976
MOP,Map Open Position,0,0
IWH,Map Image Width/Height,4592,3093
