OziExplorer Map Data File Version 2.2
200k--t46-28_29_30.gif
200k--t46-28_29_30.gif
1 ,Map Code,
Pulkovo 1942 (2),WGS 84, 0.0000, 0.0000,WGS 84
Reserved 1
Reserved 2
Magnetic Variation,,,E
Map Projection,Transverse Mercator,PolyCal,No,AutoCalOnly,No,BSBUseWPX,No
Point01,xy, 143, 87,in, deg, 77, 20.0000,N, 93, 0.0000,E, grid, , , ,N
Point02,xy, 1577, 103,in, deg, 77, 20.0000,N, 94, 30.0000,E, grid, , , ,N
Point03,xy, 3010, 88,in, deg, 77, 20.0000,N, 96, 0.0000,E, grid, , , ,N
Point04,xy, 107, 1539,in, deg, 77, 0.0000,N, 93, 0.0000,E, grid, , , ,N
Point05,xy, 1575, 1555,in, deg, 77, 0.0000,N, 94, 30.0000,E, grid, , , ,N
Point06,xy, 3044, 1540,in, deg, 77, 0.0000,N, 96, 0.0000,E, grid, , , ,N
Point07,xy, 67, 2991,in, deg, 76, 40.0000,N, 93, 0.0000,E, grid, , , ,N
Point08,xy, 1573, 3011,in, deg, 76, 40.0000,N, 94, 30.0000,E, grid, , , ,N
Point09,xy, 3081, 2993,in, deg, 76, 40.0000,N, 96, 0.0000,E, grid, , , ,N
Point10,xy, , ,in, deg, , ,N, , ,W, grid, , , ,N
Point11,xy, , ,in, deg, , ,N, , ,W, grid, , , ,N
Point12,xy, , ,in, deg, , ,N, , ,W, grid, , , ,N
Point13,xy, , ,in, deg, , ,N, , ,W, grid, , , ,N
Point14,xy, , ,in, deg, , ,N, , ,W, grid, , , ,N
Point15,xy, , ,in, deg, , ,N, , ,W, grid, , , ,N
Point16,xy, , ,in, deg, , ,N, , ,W, grid, , , ,N
Point17,xy, , ,in, deg, , ,N, , ,W, grid, , , ,N
Point18,xy, , ,in, deg, , ,N, , ,W, grid, , , ,N
Point19,xy, , ,in, deg, , ,N, , ,W, grid, , , ,N
Point20,xy, , ,in, deg, , ,N, , ,W, grid, , , ,N
Point21,xy, , ,in, deg, , ,N, , ,W, grid, , , ,N
Point22,xy, , ,in, deg, , ,N, , ,W, grid, , , ,N
Point23,xy, , ,in, deg, , ,N, , ,W, grid, , , ,N
Point24,xy, , ,in, deg, , ,N, , ,W, grid, , , ,N
Point25,xy, , ,in, deg, , ,N, , ,W, grid, , , ,N
Point26,xy, , ,in, deg, , ,N, , ,W, grid, , , ,N
Point27,xy, , ,in, deg, , ,N, , ,W, grid, , , ,N
Point28,xy, , ,in, deg, , ,N, , ,W, grid, , , ,N
Point29,xy, , ,in, deg, , ,N, , ,W, grid, , , ,N
Point30,xy, , ,in, deg, , ,N, , ,W, grid, , , ,N
Projection Setup, 0.000000000, 93.000000000, 1.000000000, 500000.00, 0.00,,,,,
Map Feature = MF ; Map Comment = MC These follow if they exist
Track File = TF These follow if they exist
Moving Map Parameters = MM? These follow if they exist
MM0,Yes
MMPNUM,4
MMPXY,1,143,87
MMPXY,2,3010,88
MMPXY,3,3081,2993
MMPXY,4,67,2991
MMPLL,1, 93.000000, 77.333333
MMPLL,2, 96.000000, 77.333333
MMPLL,3, 96.000000, 76.666667
MMPLL,4, 93.000000, 76.666667
MM1B,23.971493
MOP,Map Open Position,0,0
IWH,Map Image Width/Height,3144,3087
