OziExplorer Map Data File Version 2.2
200k--t46-19_20_21.gif
200k--t46-19_20_21.gif
1 ,Map Code,
Pulkovo 1942 (2),WGS 84, 0.0000, 0.0000,WGS 84
Reserved 1
Reserved 2
Magnetic Variation,,,E
Map Projection,Transverse Mercator,PolyCal,No,AutoCalOnly,No,BSBUseWPX,No
Point01,xy, 122, 91,in, deg, 78, 0.0000,N, 90, 0.0000,E, grid, , , ,N
Point02,xy, 1480, 101,in, deg, 78, 0.0000,N, 91, 30.0000,E, grid, , , ,N
Point03,xy, 2837, 75,in, deg, 78, 0.0000,N, 93, 0.0000,E, grid, , , ,N
Point04,xy, 94, 1540,in, deg, 77, 40.0000,N, 90, 0.0000,E, grid, , , ,N
Point05,xy, 1514, 1548,ex, deg, 77, 40.0000,N, 91, 30.0000,E, grid, , , ,N
Point06,xy, 2885, 1524,in, deg, 77, 40.0000,N, 93, 0.0000,E, grid, , , ,N
Point07,xy, 64, 2993,in, deg, 77, 20.0000,N, 90, 0.0000,E, grid, , , ,N
Point08,xy, 1498, 3002,in, deg, 77, 20.0000,N, 91, 30.0000,E, grid, , , ,N
Point09,xy, 2930, 2974,in, deg, 77, 20.0000,N, 93, 0.0000,E, grid, , , ,N
Point10,xy, , ,in, deg, , ,N, , ,W, grid, , , ,N
Point11,xy, , ,in, deg, , ,N, , ,W, grid, , , ,N
Point12,xy, , ,in, deg, , ,N, , ,W, grid, , , ,N
Point13,xy, , ,in, deg, , ,N, , ,W, grid, , , ,N
Point14,xy, , ,in, deg, , ,N, , ,W, grid, , , ,N
Point15,xy, , ,in, deg, , ,N, , ,W, grid, , , ,N
Point16,xy, , ,in, deg, , ,N, , ,W, grid, , , ,N
Point17,xy, , ,in, deg, , ,N, , ,W, grid, , , ,N
Point18,xy, , ,in, deg, , ,N, , ,W, grid, , , ,N
Point19,xy, , ,in, deg, , ,N, , ,W, grid, , , ,N
Point20,xy, , ,in, deg, , ,N, , ,W, grid, , , ,N
Point21,xy, , ,in, deg, , ,N, , ,W, grid, , , ,N
Point22,xy, , ,in, deg, , ,N, , ,W, grid, , , ,N
Point23,xy, , ,in, deg, , ,N, , ,W, grid, , , ,N
Point24,xy, , ,in, deg, , ,N, , ,W, grid, , , ,N
Point25,xy, , ,in, deg, , ,N, , ,W, grid, , , ,N
Point26,xy, , ,in, deg, , ,N, , ,W, grid, , , ,N
Point27,xy, , ,in, deg, , ,N, , ,W, grid, , , ,N
Point28,xy, , ,in, deg, , ,N, , ,W, grid, , , ,N
Point29,xy, , ,in, deg, , ,N, , ,W, grid, , , ,N
Point30,xy, , ,in, deg, , ,N, , ,W, grid, , , ,N
Projection Setup, 0.000000000, 93.000000000, 1.000000000, 500000.00, 0.00,,,,,
Map Feature = MF ; Map Comment = MC These follow if they exist
Track File = TF These follow if they exist
Moving Map Parameters = MM? These follow if they exist
MM0,Yes
MMPNUM,4
MMPXY,1,122,91
MMPXY,2,2837,75
MMPXY,3,2930,2974
MMPXY,4,64,2993
MMPLL,1, 90.000000, 78.000000
MMPLL,2, 93.000000, 78.000000
MMPLL,3, 93.000000, 77.333333
MMPLL,4, 90.000000, 77.333333
MM1B,24.167211
MOP,Map Open Position,0,0
IWH,Map Image Width/Height,2990,3062
