OziExplorer Map Data File Version 2.2
200k--t39-01_02_03.gif
200k--t39-01_02_03.gif
1 ,Map Code,
Pulkovo 1942 (2),WGS 84, 0.0000, 0.0000,WGS 84
Reserved 1
Reserved 2
Magnetic Variation,,,E
Map Projection,Transverse Mercator,PolyCal,No,AutoCalOnly,No,BSBUseWPX,No
Point01,xy, 157, 81,in, deg, 80, 0.0000,N, 48, 0.0000,E, grid, , , ,N
Point02,xy, 1289, 96,in, deg, 80, 0.0000,N, 49, 30.0000,E, grid, , , ,N
Point03,xy, 2420, 81,in, deg, 80, 0.0000,N, 51, 0.0000,E, grid, , , ,N
Point04,xy, 115, 1534,in, deg, 79, 40.0000,N, 48, 0.0000,E, grid, , , ,N
Point05,xy, 1287, 1563,ex, deg, 79, 40.0000,N, 49, 30.0000,E, grid, , , ,N
Point06,xy, 2455, 1535,in, deg, 79, 40.0000,N, 51, 0.0000,E, grid, , , ,N
Point07,xy, 72, 2989,in, deg, 79, 20.0000,N, 48, 0.0000,E, grid, , , ,N
Point08,xy, 1281, 3003,in, deg, 79, 20.0000,N, 49, 30.0000,E, grid, , , ,N
Point09,xy, 2489, 2988,in, deg, 79, 20.0000,N, 51, 0.0000,E, grid, , , ,N
Point10,xy, , ,in, deg, , ,N, , ,W, grid, , , ,N
Point11,xy, , ,in, deg, , ,N, , ,W, grid, , , ,N
Point12,xy, , ,in, deg, , ,N, , ,W, grid, , , ,N
Point13,xy, , ,in, deg, , ,N, , ,W, grid, , , ,N
Point14,xy, , ,in, deg, , ,N, , ,W, grid, , , ,N
Point15,xy, , ,in, deg, , ,N, , ,W, grid, , , ,N
Point16,xy, , ,in, deg, , ,N, , ,W, grid, , , ,N
Point17,xy, , ,in, deg, , ,N, , ,W, grid, , , ,N
Point18,xy, , ,in, deg, , ,N, , ,W, grid, , , ,N
Point19,xy, , ,in, deg, , ,N, , ,W, grid, , , ,N
Point20,xy, , ,in, deg, , ,N, , ,W, grid, , , ,N
Point21,xy, , ,in, deg, , ,N, , ,W, grid, , , ,N
Point22,xy, , ,in, deg, , ,N, , ,W, grid, , , ,N
Point23,xy, , ,in, deg, , ,N, , ,W, grid, , , ,N
Point24,xy, , ,in, deg, , ,N, , ,W, grid, , , ,N
Point25,xy, , ,in, deg, , ,N, , ,W, grid, , , ,N
Point26,xy, , ,in, deg, , ,N, , ,W, grid, , , ,N
Point27,xy, , ,in, deg, , ,N, , ,W, grid, , , ,N
Point28,xy, , ,in, deg, , ,N, , ,W, grid, , , ,N
Point29,xy, , ,in, deg, , ,N, , ,W, grid, , , ,N
Point30,xy, , ,in, deg, , ,N, , ,W, grid, , , ,N
Projection Setup, 0.000000000, 51.000000000, 1.000000000, 500000.00, 0.00,,,,,
Map Feature = MF ; Map Comment = MC These follow if they exist
Track File = TF These follow if they exist
Moving Map Parameters = MM? These follow if they exist
MM0,Yes
MMPNUM,4
MMPXY,1,157,81
MMPXY,2,2420,81
MMPXY,3,2489,2988
MMPXY,4,72,2989
MMPLL,1, 48.000000, 80.000000
MMPLL,2, 51.000000, 80.000000
MMPLL,3, 51.000000, 79.333333
MMPLL,4, 48.000000, 79.333333
MM1B,23.948220
MOP,Map Open Position,0,0
IWH,Map Image Width/Height,2570,3090
