OziExplorer Map Data File Version 2.2
500k--s54-1_2.gif
500k--s54-1_2.gif
1 ,Map Code,
Pulkovo 1942 (2),WGS 84, 0.0000, 0.0000,WGS 84
Reserved 1
Reserved 2
Magnetic Variation,,,E
Map Projection,Transverse Mercator,PolyCal,No,AutoCalOnly,No,BSBUseWPX,No
Point01,xy, 232, 95,in, deg, 76, 0.0000,N, 138, 0.0000,E, grid, , , ,N
Point02,xy, 1515, 125,in, deg, 76, 0.0000,N, 141, 0.0000,E, grid, , , ,N
Point03,xy, 2797, 88,in, deg, 76, 0.0000,N, 144, 0.0000,E, grid, , , ,N
Point04,xy, 147, 1860,in, deg, 75, 0.0000,N, 138, 0.0000,E, grid, , , ,N
Point05,xy, 1519, 1892,in, deg, 75, 0.0000,N, 141, 0.0000,E, grid, , , ,N
Point06,xy, 2890, 1852,in, deg, 75, 0.0000,N, 144, 0.0000,E, grid, , , ,N
Point07,xy, 64, 3626,in, deg, 74, 0.0000,N, 138, 0.0000,E, grid, , , ,N
Point08,xy, 1524, 3658,in, deg, 74, 0.0000,N, 141, 0.0000,E, grid, , , ,N
Point09,xy, 2986, 3617,in, deg, 74, 0.0000,N, 144, 0.0000,E, grid, , , ,N
Point10,xy, , ,in, deg, , ,N, , ,W, grid, , , ,N
Point11,xy, , ,in, deg, , ,N, , ,W, grid, , , ,N
Point12,xy, , ,in, deg, , ,N, , ,W, grid, , , ,N
Point13,xy, , ,in, deg, , ,N, , ,W, grid, , , ,N
Point14,xy, , ,in, deg, , ,N, , ,W, grid, , , ,N
Point15,xy, , ,in, deg, , ,N, , ,W, grid, , , ,N
Point16,xy, , ,in, deg, , ,N, , ,W, grid, , , ,N
Point17,xy, , ,in, deg, , ,N, , ,W, grid, , , ,N
Point18,xy, , ,in, deg, , ,N, , ,W, grid, , , ,N
Point19,xy, , ,in, deg, , ,N, , ,W, grid, , , ,N
Point20,xy, , ,in, deg, , ,N, , ,W, grid, , , ,N
Point21,xy, , ,in, deg, , ,N, , ,W, grid, , , ,N
Point22,xy, , ,in, deg, , ,N, , ,W, grid, , , ,N
Point23,xy, , ,in, deg, , ,N, , ,W, grid, , , ,N
Point24,xy, , ,in, deg, , ,N, , ,W, grid, , , ,N
Point25,xy, , ,in, deg, , ,N, , ,W, grid, , , ,N
Point26,xy, , ,in, deg, , ,N, , ,W, grid, , , ,N
Point27,xy, , ,in, deg, , ,N, , ,W, grid, , , ,N
Point28,xy, , ,in, deg, , ,N, , ,W, grid, , , ,N
Point29,xy, , ,in, deg, , ,N, , ,W, grid, , , ,N
Point30,xy, , ,in, deg, , ,N, , ,W, grid, , , ,N
Projection Setup, 0.000000000, 141.000000000, 1.000000000, 500000.00, 0.00,,,,,
Map Feature = MF ; Map Comment = MC These follow if they exist
Track File = TF These follow if they exist
Moving Map Parameters = MM? These follow if they exist
MM0,Yes
MMPNUM,4
MMPXY,1,232,95
MMPXY,2,2797,88
MMPXY,3,2986,3617
MMPXY,4,64,3626
MMPLL,1, 138.000000, 76.000000
MMPLL,2, 144.000000, 76.000000
MMPLL,3, 144.000000, 74.000000
MMPLL,4, 138.000000, 74.000000
MM1B,59.581320
MOP,Map Open Position,0,0
IWH,Map Image Width/Height,3048,3726
