OziExplorer Map Data File Version 2.2
200k--s54-03_04.gif
200k--s54-03_04.gif
1 ,Map Code,
Pulkovo 1942 (2),WGS 84, 0.0000, 0.0000,WGS 84
Reserved 1
Reserved 2
Magnetic Variation,,,E
Map Projection,Transverse Mercator,PolyCal,No,AutoCalOnly,No,BSBUseWPX,No
Point01,xy, 147, 69,in, deg, 76, 0.0000,N, 140, 0.0000,E, grid, , , ,N
Point02,xy, 1201, 89,in, deg, 76, 0.0000,N, 141, 0.0000,E, grid, , , ,N
Point03,xy, 2256, 92,in, deg, 76, 0.0000,N, 142, 0.0000,E, grid, , , ,N
Point04,xy, 106, 1520,in, deg, 75, 40.0000,N, 140, 0.0000,E, grid, , , ,N
Point05,xy, 1184, 1541,in, deg, 75, 40.0000,N, 141, 0.0000,E, grid, , , ,N
Point06,xy, 2264, 1543,in, deg, 75, 40.0000,N, 142, 0.0000,E, grid, , , ,N
Point07,xy, 64, 2968,in, deg, 75, 20.0000,N, 140, 0.0000,E, grid, , , ,N
Point08,xy, 1168, 2989,in, deg, 75, 20.0000,N, 141, 0.0000,E, grid, , , ,N
Point09,xy, 2271, 2993,in, deg, 75, 20.0000,N, 142, 0.0000,E, grid, , , ,N
Point10,xy, , ,in, deg, , ,N, , ,W, grid, , , ,N
Point11,xy, , ,in, deg, , ,N, , ,W, grid, , , ,N
Point12,xy, , ,in, deg, , ,N, , ,W, grid, , , ,N
Point13,xy, , ,in, deg, , ,N, , ,W, grid, , , ,N
Point14,xy, , ,in, deg, , ,N, , ,W, grid, , , ,N
Point15,xy, , ,in, deg, , ,N, , ,W, grid, , , ,N
Point16,xy, , ,in, deg, , ,N, , ,W, grid, , , ,N
Point17,xy, , ,in, deg, , ,N, , ,W, grid, , , ,N
Point18,xy, , ,in, deg, , ,N, , ,W, grid, , , ,N
Point19,xy, , ,in, deg, , ,N, , ,W, grid, , , ,N
Point20,xy, , ,in, deg, , ,N, , ,W, grid, , , ,N
Point21,xy, , ,in, deg, , ,N, , ,W, grid, , , ,N
Point22,xy, , ,in, deg, , ,N, , ,W, grid, , , ,N
Point23,xy, , ,in, deg, , ,N, , ,W, grid, , , ,N
Point24,xy, , ,in, deg, , ,N, , ,W, grid, , , ,N
Point25,xy, , ,in, deg, , ,N, , ,W, grid, , , ,N
Point26,xy, , ,in, deg, , ,N, , ,W, grid, , , ,N
Point27,xy, , ,in, deg, , ,N, , ,W, grid, , , ,N
Point28,xy, , ,in, deg, , ,N, , ,W, grid, , , ,N
Point29,xy, , ,in, deg, , ,N, , ,W, grid, , , ,N
Point30,xy, , ,in, deg, , ,N, , ,W, grid, , , ,N
Projection Setup, 0.000000000, 141.000000000, 1.000000000, 500000.00, 0.00,,,,,
Map Feature = MF ; Map Comment = MC These follow if they exist
Track File = TF These follow if they exist
Moving Map Parameters = MM? These follow if they exist
MM0,Yes
MMPNUM,4
MMPXY,1,147,69
MMPXY,2,2256,92
MMPXY,3,2271,2993
MMPXY,4,64,2968
MMPLL,1, 140.000000, 76.000000
MMPLL,2, 142.000000, 76.000000
MMPLL,3, 142.000000, 75.333333
MMPLL,4, 140.000000, 75.333333
MM1B,24.010383
MOP,Map Open Position,0,0
IWH,Map Image Width/Height,2361,3082
