OziExplorer Map Data File Version 2.2
200k--s53-11_12.gif
200k--s53-11_12.gif
1 ,Map Code,
Pulkovo 1942 (2),WGS 84, 0.0000, 0.0000,WGS 84
Reserved 1
Reserved 2
Magnetic Variation,,,E
Map Projection,Transverse Mercator,PolyCal,No,AutoCalOnly,No,BSBUseWPX,No
Point01,xy, 110, 87,in, deg, 75, 20.0000,N, 136, 0.0000,E, grid, , , ,N
Point02,xy, 1214, 91,in, deg, 75, 20.0000,N, 137, 0.0000,E, grid, , , ,N
Point03,xy, 2316, 76,in, deg, 75, 20.0000,N, 138, 0.0000,E, grid, , , ,N
Point04,xy, 92, 1534,in, deg, 75, 0.0000,N, 136, 0.0000,E, grid, , , ,N
Point05,xy, 1219, 1538,in, deg, 75, 0.0000,N, 137, 0.0000,E, grid, , , ,N
Point06,xy, 2347, 1523,in, deg, 75, 0.0000,N, 138, 0.0000,E, grid, , , ,N
Point07,xy, 76, 2981,in, deg, 74, 40.0000,N, 136, 0.0000,E, grid, , , ,N
Point08,xy, 1226, 2986,in, deg, 74, 40.0000,N, 137, 0.0000,E, grid, , , ,N
Point09,xy, 2375, 2970,in, deg, 74, 40.0000,N, 138, 0.0000,E, grid, , , ,N
Point10,xy, , ,in, deg, , ,N, , ,W, grid, , , ,N
Point11,xy, , ,in, deg, , ,N, , ,W, grid, , , ,N
Point12,xy, , ,in, deg, , ,N, , ,W, grid, , , ,N
Point13,xy, , ,in, deg, , ,N, , ,W, grid, , , ,N
Point14,xy, , ,in, deg, , ,N, , ,W, grid, , , ,N
Point15,xy, , ,in, deg, , ,N, , ,W, grid, , , ,N
Point16,xy, , ,in, deg, , ,N, , ,W, grid, , , ,N
Point17,xy, , ,in, deg, , ,N, , ,W, grid, , , ,N
Point18,xy, , ,in, deg, , ,N, , ,W, grid, , , ,N
Point19,xy, , ,in, deg, , ,N, , ,W, grid, , , ,N
Point20,xy, , ,in, deg, , ,N, , ,W, grid, , , ,N
Point21,xy, , ,in, deg, , ,N, , ,W, grid, , , ,N
Point22,xy, , ,in, deg, , ,N, , ,W, grid, , , ,N
Point23,xy, , ,in, deg, , ,N, , ,W, grid, , , ,N
Point24,xy, , ,in, deg, , ,N, , ,W, grid, , , ,N
Point25,xy, , ,in, deg, , ,N, , ,W, grid, , , ,N
Point26,xy, , ,in, deg, , ,N, , ,W, grid, , , ,N
Point27,xy, , ,in, deg, , ,N, , ,W, grid, , , ,N
Point28,xy, , ,in, deg, , ,N, , ,W, grid, , , ,N
Point29,xy, , ,in, deg, , ,N, , ,W, grid, , , ,N
Point30,xy, , ,in, deg, , ,N, , ,W, grid, , , ,N
Projection Setup, 0.000000000, 135.000000000, 1.000000000, 500000.00, 0.00,,,,,
Map Feature = MF ; Map Comment = MC These follow if they exist
Track File = TF These follow if they exist
Moving Map Parameters = MM? These follow if they exist
MM0,Yes
MMPNUM,4
MMPXY,1,110,87
MMPXY,2,2316,76
MMPXY,3,2375,2970
MMPXY,4,76,2981
MMPLL,1, 136.000000, 75.333333
MMPLL,2, 138.000000, 75.333333
MMPLL,3, 138.000000, 74.666667
MMPLL,4, 136.000000, 74.666667
MM1B,24.072869
MOP,Map Open Position,0,0
IWH,Map Image Width/Height,2452,3074
