OziExplorer Map Data File Version 2.2
500k--s52-3_4.gif
500k--s52-3_4.gif
1 ,Map Code,
Pulkovo 1942 (2),WGS 84, 0.0000, 0.0000,WGS 84
Reserved 1
Reserved 2
Magnetic Variation,,,E
Map Projection,Transverse Mercator,PolyCal,No,AutoCalOnly,No,BSBUseWPX,No
Point01,xy, 242, 86,in, deg, 74, 0.0000,N, 126, 0.0000,E, grid, , , ,N
Point02,xy, 1703, 120,in, deg, 74, 0.0000,N, 129, 0.0000,E, grid, , , ,N
Point03,xy, 3165, 85,in, deg, 74, 0.0000,N, 132, 0.0000,E, grid, , , ,N
Point04,xy, 153, 1854,in, deg, 73, 0.0000,N, 126, 0.0000,E, grid, , , ,N
Point05,xy, 1703, 1891,in, deg, 73, 0.0000,N, 129, 0.0000,E, grid, , , ,N
Point06,xy, 3253, 1854,in, deg, 73, 0.0000,N, 132, 0.0000,E, grid, , , ,N
Point07,xy, 65, 3626,in, deg, 72, 0.0000,N, 126, 0.0000,E, grid, , , ,N
Point08,xy, 1703, 3667,in, deg, 72, 0.0000,N, 129, 0.0000,E, grid, , , ,N
Point09,xy, 3339, 3623,in, deg, 72, 0.0000,N, 132, 0.0000,E, grid, , , ,N
Point10,xy, , ,in, deg, , ,N, , ,W, grid, , , ,N
Point11,xy, , ,in, deg, , ,N, , ,W, grid, , , ,N
Point12,xy, , ,in, deg, , ,N, , ,W, grid, , , ,N
Point13,xy, , ,in, deg, , ,N, , ,W, grid, , , ,N
Point14,xy, , ,in, deg, , ,N, , ,W, grid, , , ,N
Point15,xy, , ,in, deg, , ,N, , ,W, grid, , , ,N
Point16,xy, , ,in, deg, , ,N, , ,W, grid, , , ,N
Point17,xy, , ,in, deg, , ,N, , ,W, grid, , , ,N
Point18,xy, , ,in, deg, , ,N, , ,W, grid, , , ,N
Point19,xy, , ,in, deg, , ,N, , ,W, grid, , , ,N
Point20,xy, , ,in, deg, , ,N, , ,W, grid, , , ,N
Point21,xy, , ,in, deg, , ,N, , ,W, grid, , , ,N
Point22,xy, , ,in, deg, , ,N, , ,W, grid, , , ,N
Point23,xy, , ,in, deg, , ,N, , ,W, grid, , , ,N
Point24,xy, , ,in, deg, , ,N, , ,W, grid, , , ,N
Point25,xy, , ,in, deg, , ,N, , ,W, grid, , , ,N
Point26,xy, , ,in, deg, , ,N, , ,W, grid, , , ,N
Point27,xy, , ,in, deg, , ,N, , ,W, grid, , , ,N
Point28,xy, , ,in, deg, , ,N, , ,W, grid, , , ,N
Point29,xy, , ,in, deg, , ,N, , ,W, grid, , , ,N
Point30,xy, , ,in, deg, , ,N, , ,W, grid, , , ,N
Projection Setup, 0.000000000, 129.000000000, 1.000000000, 500000.00, 0.00,,,,,
Map Feature = MF ; Map Comment = MC These follow if they exist
Track File = TF These follow if they exist
Moving Map Parameters = MM? These follow if they exist
MM0,Yes
MMPNUM,4
MMPXY,1,242,86
MMPXY,2,3165,85
MMPXY,3,3339,3623
MMPXY,4,65,3626
MMPLL,1, 126.000000, 74.000000
MMPLL,2, 132.000000, 74.000000
MMPLL,3, 132.000000, 72.000000
MMPLL,4, 126.000000, 72.000000
MM1B,59.421842
MOP,Map Open Position,0,0
IWH,Map Image Width/Height,3393,3736
