OziExplorer Map Data File Version 2.2
500k--s40-1_2.gif
500k--s40-1_2.gif
1 ,Map Code,
Pulkovo 1942 (2),WGS 84, 0.0000, 0.0000,WGS 84
Reserved 1
Reserved 2
Magnetic Variation,,,E
Map Projection,Transverse Mercator,PolyCal,No,AutoCalOnly,No,BSBUseWPX,No
Point01,xy, 231, 87,in, deg, 76, 0.0000,N, 54, 0.0000,E, grid, , , ,N
Point02,xy, 1516, 117,in, deg, 76, 0.0000,N, 57, 0.0000,E, grid, , , ,N
Point03,xy, 2798, 82,in, deg, 76, 0.0000,N, 60, 0.0000,E, grid, , , ,N
Point04,xy, 147, 1853,in, deg, 75, 0.0000,N, 54, 0.0000,E, grid, , , ,N
Point05,xy, 1521, 1883,in, deg, 75, 0.0000,N, 57, 0.0000,E, grid, , , ,N
Point06,xy, 2893, 1847,in, deg, 75, 0.0000,N, 60, 0.0000,E, grid, , , ,N
Point07,xy, 63, 3618,in, deg, 74, 0.0000,N, 54, 0.0000,E, grid, , , ,N
Point08,xy, 1525, 3651,in, deg, 74, 0.0000,N, 57, 0.0000,E, grid, , , ,N
Point09,xy, 2988, 3611,in, deg, 74, 0.0000,N, 60, 0.0000,E, grid, , , ,N
Point10,xy, , ,in, deg, , ,N, , ,W, grid, , , ,N
Point11,xy, , ,in, deg, , ,N, , ,W, grid, , , ,N
Point12,xy, , ,in, deg, , ,N, , ,W, grid, , , ,N
Point13,xy, , ,in, deg, , ,N, , ,W, grid, , , ,N
Point14,xy, , ,in, deg, , ,N, , ,W, grid, , , ,N
Point15,xy, , ,in, deg, , ,N, , ,W, grid, , , ,N
Point16,xy, , ,in, deg, , ,N, , ,W, grid, , , ,N
Point17,xy, , ,in, deg, , ,N, , ,W, grid, , , ,N
Point18,xy, , ,in, deg, , ,N, , ,W, grid, , , ,N
Point19,xy, , ,in, deg, , ,N, , ,W, grid, , , ,N
Point20,xy, , ,in, deg, , ,N, , ,W, grid, , , ,N
Point21,xy, , ,in, deg, , ,N, , ,W, grid, , , ,N
Point22,xy, , ,in, deg, , ,N, , ,W, grid, , , ,N
Point23,xy, , ,in, deg, , ,N, , ,W, grid, , , ,N
Point24,xy, , ,in, deg, , ,N, , ,W, grid, , , ,N
Point25,xy, , ,in, deg, , ,N, , ,W, grid, , , ,N
Point26,xy, , ,in, deg, , ,N, , ,W, grid, , , ,N
Point27,xy, , ,in, deg, , ,N, , ,W, grid, , , ,N
Point28,xy, , ,in, deg, , ,N, , ,W, grid, , , ,N
Point29,xy, , ,in, deg, , ,N, , ,W, grid, , , ,N
Point30,xy, , ,in, deg, , ,N, , ,W, grid, , , ,N
Projection Setup, 0.000000000, 57.000000000, 1.000000000, 500000.00, 0.00,,,,,
Map Feature = MF ; Map Comment = MC These follow if they exist
Track File = TF These follow if they exist
Moving Map Parameters = MM? These follow if they exist
MM0,Yes
MMPNUM,4
MMPXY,1,231,87
MMPXY,2,2798,82
MMPXY,3,2988,3611
MMPXY,4,63,3618
MMPLL,1, 54.000000, 76.000000
MMPLL,2, 60.000000, 76.000000
MMPLL,3, 60.000000, 74.000000
MMPLL,4, 54.000000, 74.000000
MM1B,59.935205
MOP,Map Open Position,0,0
IWH,Map Image Width/Height,3054,3704
