OziExplorer Map Data File Version 2.2
200k--s40-17_18.gif
200k--s40-17_18.gif
1 ,Map Code,
Pulkovo 1942 (2),WGS 84, 0.0000, 0.0000,WGS 84
Reserved 1
Reserved 2
Magnetic Variation,,,E
Map Projection,Transverse Mercator,PolyCal,No,AutoCalOnly,No,BSBUseWPX,No
Point01,xy, 137, 76,in, deg, 74, 40.0000,N, 58, 0.0000,E, grid, , , ,N
Point02,xy, 1286, 97,in, deg, 74, 40.0000,N, 59, 0.0000,E, grid, , , ,N
Point03,xy, 2437, 97,in, deg, 74, 40.0000,N, 60, 0.0000,E, grid, , , ,N
Point04,xy, 99, 1526,in, deg, 74, 20.0000,N, 58, 0.0000,E, grid, , , ,N
Point05,xy, 1273, 1547,in, deg, 74, 20.0000,N, 59, 0.0000,E, grid, , , ,N
Point06,xy, 2449, 1547,in, deg, 74, 20.0000,N, 60, 0.0000,E, grid, , , ,N
Point07,xy, 61, 2977,in, deg, 74, 0.0000,N, 58, 0.0000,E, grid, , , ,N
Point08,xy, 1259, 2998,in, deg, 74, 0.0000,N, 59, 0.0000,E, grid, , , ,N
Point09,xy, 2462, 2999,in, deg, 74, 0.0000,N, 60, 0.0000,E, grid, , , ,N
Point10,xy, , ,in, deg, , ,N, , ,W, grid, , , ,N
Point11,xy, , ,in, deg, , ,N, , ,W, grid, , , ,N
Point12,xy, , ,in, deg, , ,N, , ,W, grid, , , ,N
Point13,xy, , ,in, deg, , ,N, , ,W, grid, , , ,N
Point14,xy, , ,in, deg, , ,N, , ,W, grid, , , ,N
Point15,xy, , ,in, deg, , ,N, , ,W, grid, , , ,N
Point16,xy, , ,in, deg, , ,N, , ,W, grid, , , ,N
Point17,xy, , ,in, deg, , ,N, , ,W, grid, , , ,N
Point18,xy, , ,in, deg, , ,N, , ,W, grid, , , ,N
Point19,xy, , ,in, deg, , ,N, , ,W, grid, , , ,N
Point20,xy, , ,in, deg, , ,N, , ,W, grid, , , ,N
Point21,xy, , ,in, deg, , ,N, , ,W, grid, , , ,N
Point22,xy, , ,in, deg, , ,N, , ,W, grid, , , ,N
Point23,xy, , ,in, deg, , ,N, , ,W, grid, , , ,N
Point24,xy, , ,in, deg, , ,N, , ,W, grid, , , ,N
Point25,xy, , ,in, deg, , ,N, , ,W, grid, , , ,N
Point26,xy, , ,in, deg, , ,N, , ,W, grid, , , ,N
Point27,xy, , ,in, deg, , ,N, , ,W, grid, , , ,N
Point28,xy, , ,in, deg, , ,N, , ,W, grid, , , ,N
Point29,xy, , ,in, deg, , ,N, , ,W, grid, , , ,N
Point30,xy, , ,in, deg, , ,N, , ,W, grid, , , ,N
Projection Setup, 0.000000000, 57.000000000, 1.000000000, 500000.00, 0.00,,,,,
Map Feature = MF ; Map Comment = MC These follow if they exist
Track File = TF These follow if they exist
Moving Map Parameters = MM? These follow if they exist
MM0,Yes
MMPNUM,4
MMPXY,1,137,76
MMPXY,2,2437,97
MMPXY,3,2462,2999
MMPXY,4,61,2977
MMPLL,1, 58.000000, 74.666667
MMPLL,2, 60.000000, 74.666667
MMPLL,3, 60.000000, 74.000000
MMPLL,4, 58.000000, 74.000000
MM1B,24.088542
MOP,Map Open Position,0,0
IWH,Map Image Width/Height,2520,3072
