OziExplorer Map Data File Version 2.2
200k--s40-09_10.gif
200k--s40-09_10.gif
1 ,Map Code,
Pulkovo 1942 (2),WGS 84, 0.0000, 0.0000,WGS 84
Reserved 1
Reserved 2
Magnetic Variation,,,E
Map Projection,Transverse Mercator,PolyCal,No,AutoCalOnly,No,BSBUseWPX,No
Point01,xy, 122, 83,in, deg, 75, 20.0000,N, 56, 0.0000,E, grid, , , ,N
Point02,xy, 1224, 98,in, deg, 75, 20.0000,N, 57, 0.0000,E, grid, , , ,N
Point03,xy, 2326, 92,in, deg, 75, 20.0000,N, 58, 0.0000,E, grid, , , ,N
Point04,xy, 93, 1534,in, deg, 75, 0.0000,N, 56, 0.0000,E, grid, , , ,N
Point05,xy, 1218, 1548,in, deg, 75, 0.0000,N, 57, 0.0000,E, grid, , , ,N
Point06,xy, 2345, 1542,in, deg, 75, 0.0000,N, 58, 0.0000,E, grid, , , ,N
Point07,xy, 64, 2984,in, deg, 74, 40.0000,N, 56, 0.0000,E, grid, , , ,N
Point08,xy, 1213, 2998,in, deg, 74, 40.0000,N, 57, 0.0000,E, grid, , , ,N
Point09,xy, 2365, 2992,in, deg, 74, 40.0000,N, 58, 0.0000,E, grid, , , ,N
Point10,xy, , ,in, deg, , ,N, , ,W, grid, , , ,N
Point11,xy, , ,in, deg, , ,N, , ,W, grid, , , ,N
Point12,xy, , ,in, deg, , ,N, , ,W, grid, , , ,N
Point13,xy, , ,in, deg, , ,N, , ,W, grid, , , ,N
Point14,xy, , ,in, deg, , ,N, , ,W, grid, , , ,N
Point15,xy, , ,in, deg, , ,N, , ,W, grid, , , ,N
Point16,xy, , ,in, deg, , ,N, , ,W, grid, , , ,N
Point17,xy, , ,in, deg, , ,N, , ,W, grid, , , ,N
Point18,xy, , ,in, deg, , ,N, , ,W, grid, , , ,N
Point19,xy, , ,in, deg, , ,N, , ,W, grid, , , ,N
Point20,xy, , ,in, deg, , ,N, , ,W, grid, , , ,N
Point21,xy, , ,in, deg, , ,N, , ,W, grid, , , ,N
Point22,xy, , ,in, deg, , ,N, , ,W, grid, , , ,N
Point23,xy, , ,in, deg, , ,N, , ,W, grid, , , ,N
Point24,xy, , ,in, deg, , ,N, , ,W, grid, , , ,N
Point25,xy, , ,in, deg, , ,N, , ,W, grid, , , ,N
Point26,xy, , ,in, deg, , ,N, , ,W, grid, , , ,N
Point27,xy, , ,in, deg, , ,N, , ,W, grid, , , ,N
Point28,xy, , ,in, deg, , ,N, , ,W, grid, , , ,N
Point29,xy, , ,in, deg, , ,N, , ,W, grid, , , ,N
Point30,xy, , ,in, deg, , ,N, , ,W, grid, , , ,N
Projection Setup, 0.000000000, 57.000000000, 1.000000000, 500000.00, 0.00,,,,,
Map Feature = MF ; Map Comment = MC These follow if they exist
Track File = TF These follow if they exist
Moving Map Parameters = MM? These follow if they exist
MM0,Yes
MMPNUM,4
MMPXY,1,122,83
MMPXY,2,2326,92
MMPXY,3,2365,2992
MMPXY,4,64,2984
MMPLL,1, 56.000000, 75.333333
MMPLL,2, 58.000000, 75.333333
MMPLL,3, 58.000000, 74.666667
MMPLL,4, 56.000000, 74.666667
MM1B,24.167211
MOP,Map Open Position,0,0
IWH,Map Image Width/Height,2420,3062
