OziExplorer Map Data File Version 2.2
200k--s39-35_36.gif
200k--s39-35_36.gif
1 ,Map Code,
Pulkovo 1942 (2),WGS 84, 0.0000, 0.0000,WGS 84
Reserved 1
Reserved 2
Magnetic Variation,,,E
Map Projection,Transverse Mercator,PolyCal,No,AutoCalOnly,No,BSBUseWPX,No
Point01,xy, 107, 80,in, deg, 72, 40.0000,N, 52, 0.0000,E, grid, , , ,N
Point02,xy, 1404, 86,in, deg, 72, 40.0000,N, 53, 0.0000,E, grid, , , ,N
Point03,xy, 2701, 73,in, deg, 72, 40.0000,N, 54, 0.0000,E, grid, , , ,N
Point04,xy, 87, 1532,in, deg, 72, 20.0000,N, 52, 0.0000,E, grid, , , ,N
Point05,xy, 1409, 1540,in, deg, 72, 20.0000,N, 53, 0.0000,E, grid, , , ,N
Point06,xy, 2729, 1525,in, deg, 72, 20.0000,N, 54, 0.0000,E, grid, , , ,N
Point07,xy, 68, 2982,in, deg, 72, 0.0000,N, 52, 0.0000,E, grid, , , ,N
Point08,xy, 1413, 2991,in, deg, 72, 0.0000,N, 53, 0.0000,E, grid, , , ,N
Point09,xy, 2757, 2977,in, deg, 72, 0.0000,N, 54, 0.0000,E, grid, , , ,N
Point10,xy, , ,in, deg, , ,N, , ,W, grid, , , ,N
Point11,xy, , ,in, deg, , ,N, , ,W, grid, , , ,N
Point12,xy, , ,in, deg, , ,N, , ,W, grid, , , ,N
Point13,xy, , ,in, deg, , ,N, , ,W, grid, , , ,N
Point14,xy, , ,in, deg, , ,N, , ,W, grid, , , ,N
Point15,xy, , ,in, deg, , ,N, , ,W, grid, , , ,N
Point16,xy, , ,in, deg, , ,N, , ,W, grid, , , ,N
Point17,xy, , ,in, deg, , ,N, , ,W, grid, , , ,N
Point18,xy, , ,in, deg, , ,N, , ,W, grid, , , ,N
Point19,xy, , ,in, deg, , ,N, , ,W, grid, , , ,N
Point20,xy, , ,in, deg, , ,N, , ,W, grid, , , ,N
Point21,xy, , ,in, deg, , ,N, , ,W, grid, , , ,N
Point22,xy, , ,in, deg, , ,N, , ,W, grid, , , ,N
Point23,xy, , ,in, deg, , ,N, , ,W, grid, , , ,N
Point24,xy, , ,in, deg, , ,N, , ,W, grid, , , ,N
Point25,xy, , ,in, deg, , ,N, , ,W, grid, , , ,N
Point26,xy, , ,in, deg, , ,N, , ,W, grid, , , ,N
Point27,xy, , ,in, deg, , ,N, , ,W, grid, , , ,N
Point28,xy, , ,in, deg, , ,N, , ,W, grid, , , ,N
Point29,xy, , ,in, deg, , ,N, , ,W, grid, , , ,N
Point30,xy, , ,in, deg, , ,N, , ,W, grid, , , ,N
Projection Setup, 0.000000000, 51.000000000, 1.000000000, 500000.00, 0.00,,,,,
Map Feature = MF ; Map Comment = MC These follow if they exist
Track File = TF These follow if they exist
Moving Map Parameters = MM? These follow if they exist
MM0,Yes
MMPNUM,4
MMPXY,1,107,80
MMPXY,2,2701,73
MMPXY,3,2757,2977
MMPXY,4,68,2982
MMPLL,1, 52.000000, 72.666667
MMPLL,2, 54.000000, 72.666667
MMPLL,3, 54.000000, 72.000000
MMPLL,4, 52.000000, 72.000000
MM1B,24.246396
MOP,Map Open Position,0,0
IWH,Map Image Width/Height,2830,3052
