OziExplorer Map Data File Version 2.2
500k--r60-3_4.gif
500k--r60-3_4.gif
1 ,Map Code,
Pulkovo 1942 (2),WGS 84, 0.0000, 0.0000,WGS 84
Reserved 1
Reserved 2
Magnetic Variation,,,E
Map Projection,Transverse Mercator,PolyCal,No,AutoCalOnly,No,BSBUseWPX,No
Point01,xy, 248, 74,in, deg, 70, 0.0000,N, 174, 0.0000,E, grid, , , ,N
Point02,xy, 2061, 121,in, deg, 70, 0.0000,N, 177, 0.0000,E, grid, , , ,N
Point03,xy, 3870, 80,in, deg, 70, 0.0000,N, 180, 0.0000,E, grid, , , ,N
Point04,xy, 160, 1835,in, deg, 69, 0.0000,N, 174, 0.0000,E, grid, , , ,N
Point05,xy, 2059, 1883,in, deg, 69, 0.0000,N, 177, 0.0000,E, grid, , , ,N
Point06,xy, 3956, 1841,in, deg, 69, 0.0000,N, 180, 0.0000,E, grid, , , ,N
Point07,xy, 72, 3600,in, deg, 68, 0.0000,N, 174, 0.0000,E, grid, , , ,N
Point08,xy, 2058, 3651,in, deg, 68, 0.0000,N, 177, 0.0000,E, grid, , , ,N
Point09,xy, 4040, 3605,in, deg, 68, 0.0000,N, 180, 0.0000,E, grid, , , ,N
Point10,xy, , ,in, deg, , ,N, , ,W, grid, , , ,N
Point11,xy, , ,in, deg, , ,N, , ,W, grid, , , ,N
Point12,xy, , ,in, deg, , ,N, , ,W, grid, , , ,N
Point13,xy, , ,in, deg, , ,N, , ,W, grid, , , ,N
Point14,xy, , ,in, deg, , ,N, , ,W, grid, , , ,N
Point15,xy, , ,in, deg, , ,N, , ,W, grid, , , ,N
Point16,xy, , ,in, deg, , ,N, , ,W, grid, , , ,N
Point17,xy, , ,in, deg, , ,N, , ,W, grid, , , ,N
Point18,xy, , ,in, deg, , ,N, , ,W, grid, , , ,N
Point19,xy, , ,in, deg, , ,N, , ,W, grid, , , ,N
Point20,xy, , ,in, deg, , ,N, , ,W, grid, , , ,N
Point21,xy, , ,in, deg, , ,N, , ,W, grid, , , ,N
Point22,xy, , ,in, deg, , ,N, , ,W, grid, , , ,N
Point23,xy, , ,in, deg, , ,N, , ,W, grid, , , ,N
Point24,xy, , ,in, deg, , ,N, , ,W, grid, , , ,N
Point25,xy, , ,in, deg, , ,N, , ,W, grid, , , ,N
Point26,xy, , ,in, deg, , ,N, , ,W, grid, , , ,N
Point27,xy, , ,in, deg, , ,N, , ,W, grid, , , ,N
Point28,xy, , ,in, deg, , ,N, , ,W, grid, , , ,N
Point29,xy, , ,in, deg, , ,N, , ,W, grid, , , ,N
Point30,xy, , ,in, deg, , ,N, , ,W, grid, , , ,N
Projection Setup, 0.000000000, 177.000000000, 1.000000000, 500000.00, 0.00,,,,,
Map Feature = MF ; Map Comment = MC These follow if they exist
Track File = TF These follow if they exist
Moving Map Parameters = MM? These follow if they exist
MM0,Yes
MMPNUM,4
MMPXY,1,248,74
MMPXY,2,3870,80
MMPXY,3,4040,3605
MMPXY,4,72,3600
MMPLL,1, 174.000000, 70.000000
MMPLL,2, 180.000000, 70.000000
MMPLL,3, 180.000000, 68.000000
MMPLL,4, 174.000000, 68.000000
MM1B,59.773829
MOP,Map Open Position,0,0
IWH,Map Image Width/Height,4096,3714
