OziExplorer Map Data File Version 2.2
500k--r49-1_2.gif
500k--r49-1_2.gif
1 ,Map Code,
Pulkovo 1942 (2),WGS 84, 0.0000, 0.0000,WGS 84
Reserved 1
Reserved 2
Magnetic Variation,,,E
Map Projection,Transverse Mercator,PolyCal,No,AutoCalOnly,No,BSBUseWPX,No
Point01,xy, 228, 89,in, deg, 72, 0.0000,N, 108, 0.0000,E, grid, , , ,N
Point02,xy, 1864, 123,in, deg, 72, 0.0000,N, 111, 0.0000,E, grid, , , ,N
Point03,xy, 3499, 77,in, deg, 72, 0.0000,N, 114, 0.0000,E, grid, , , ,N
Point04,xy, 148, 1854,in, deg, 71, 0.0000,N, 108, 0.0000,E, grid, , , ,N
Point05,xy, 1871, 1890,in, deg, 71, 0.0000,N, 111, 0.0000,E, grid, , , ,N
Point06,xy, 3596, 1840,in, deg, 71, 0.0000,N, 114, 0.0000,E, grid, , , ,N
Point07,xy, 69, 3618,in, deg, 70, 0.0000,N, 108, 0.0000,E, grid, , , ,N
Point08,xy, 1879, 3656,in, deg, 70, 0.0000,N, 111, 0.0000,E, grid, , , ,N
Point09,xy, 3691, 3607,in, deg, 70, 0.0000,N, 114, 0.0000,E, grid, , , ,N
Point10,xy, , ,in, deg, , ,N, , ,W, grid, , , ,N
Point11,xy, , ,in, deg, , ,N, , ,W, grid, , , ,N
Point12,xy, , ,in, deg, , ,N, , ,W, grid, , , ,N
Point13,xy, , ,in, deg, , ,N, , ,W, grid, , , ,N
Point14,xy, , ,in, deg, , ,N, , ,W, grid, , , ,N
Point15,xy, , ,in, deg, , ,N, , ,W, grid, , , ,N
Point16,xy, , ,in, deg, , ,N, , ,W, grid, , , ,N
Point17,xy, , ,in, deg, , ,N, , ,W, grid, , , ,N
Point18,xy, , ,in, deg, , ,N, , ,W, grid, , , ,N
Point19,xy, , ,in, deg, , ,N, , ,W, grid, , , ,N
Point20,xy, , ,in, deg, , ,N, , ,W, grid, , , ,N
Point21,xy, , ,in, deg, , ,N, , ,W, grid, , , ,N
Point22,xy, , ,in, deg, , ,N, , ,W, grid, , , ,N
Point23,xy, , ,in, deg, , ,N, , ,W, grid, , , ,N
Point24,xy, , ,in, deg, , ,N, , ,W, grid, , , ,N
Point25,xy, , ,in, deg, , ,N, , ,W, grid, , , ,N
Point26,xy, , ,in, deg, , ,N, , ,W, grid, , , ,N
Point27,xy, , ,in, deg, , ,N, , ,W, grid, , , ,N
Point28,xy, , ,in, deg, , ,N, , ,W, grid, , , ,N
Point29,xy, , ,in, deg, , ,N, , ,W, grid, , , ,N
Point30,xy, , ,in, deg, , ,N, , ,W, grid, , , ,N
Projection Setup, 0.000000000, 111.000000000, 1.000000000, 500000.00, 0.00,,,,,
Map Feature = MF ; Map Comment = MC These follow if they exist
Track File = TF These follow if they exist
Moving Map Parameters = MM? These follow if they exist
MM0,Yes
MMPNUM,4
MMPXY,1,228,89
MMPXY,2,3499,77
MMPXY,3,3691,3607
MMPXY,4,69,3618
MMPLL,1, 108.000000, 72.000000
MMPLL,2, 114.000000, 72.000000
MMPLL,3, 114.000000, 70.000000
MMPLL,4, 108.000000, 70.000000
MM1B,59.773829
MOP,Map Open Position,0,0
IWH,Map Image Width/Height,3737,3714
