OziExplorer Map Data File Version 2.2
200k--r50-07_08.gif
200k--r50-07_08.gif
1 ,Map Code,
Pulkovo 1942 (2),WGS 84, 0.0000, 0.0000,WGS 84
Reserved 1
Reserved 2
Magnetic Variation,,,E
Map Projection,Transverse Mercator,PolyCal,No,AutoCalOnly,No,BSBUseWPX,No
Point01,xy, 129, 90,in, deg, 71, 20.0000,N, 114, 0.0000,E, grid, , , ,N
Point02,xy, 1519, 102,in, deg, 71, 20.0000,N, 115, 0.0000,E, grid, , , ,N
Point03,xy, 2910, 85,in, deg, 71, 20.0000,N, 116, 0.0000,E, grid, , , ,N
Point04,xy, 106, 1537,in, deg, 71, 0.0000,N, 114, 0.0000,E, grid, , , ,N
Point05,xy, 1521, 1547,in, deg, 71, 0.0000,N, 115, 0.0000,E, grid, , , ,N
Point06,xy, 2937, 1529,in, deg, 71, 0.0000,N, 116, 0.0000,E, grid, , , ,N
Point07,xy, 84, 2985,in, deg, 70, 40.0000,N, 114, 0.0000,E, grid, , , ,N
Point08,xy, 1524, 2995,in, deg, 70, 40.0000,N, 115, 0.0000,E, grid, , , ,N
Point09,xy, 2964, 2977,in, deg, 70, 40.0000,N, 116, 0.0000,E, grid, , , ,N
Point10,xy, , ,in, deg, , ,N, , ,W, grid, , , ,N
Point11,xy, , ,in, deg, , ,N, , ,W, grid, , , ,N
Point12,xy, , ,in, deg, , ,N, , ,W, grid, , , ,N
Point13,xy, , ,in, deg, , ,N, , ,W, grid, , , ,N
Point14,xy, , ,in, deg, , ,N, , ,W, grid, , , ,N
Point15,xy, , ,in, deg, , ,N, , ,W, grid, , , ,N
Point16,xy, , ,in, deg, , ,N, , ,W, grid, , , ,N
Point17,xy, , ,in, deg, , ,N, , ,W, grid, , , ,N
Point18,xy, , ,in, deg, , ,N, , ,W, grid, , , ,N
Point19,xy, , ,in, deg, , ,N, , ,W, grid, , , ,N
Point20,xy, , ,in, deg, , ,N, , ,W, grid, , , ,N
Point21,xy, , ,in, deg, , ,N, , ,W, grid, , , ,N
Point22,xy, , ,in, deg, , ,N, , ,W, grid, , , ,N
Point23,xy, , ,in, deg, , ,N, , ,W, grid, , , ,N
Point24,xy, , ,in, deg, , ,N, , ,W, grid, , , ,N
Point25,xy, , ,in, deg, , ,N, , ,W, grid, , , ,N
Point26,xy, , ,in, deg, , ,N, , ,W, grid, , , ,N
Point27,xy, , ,in, deg, , ,N, , ,W, grid, , , ,N
Point28,xy, , ,in, deg, , ,N, , ,W, grid, , , ,N
Point29,xy, , ,in, deg, , ,N, , ,W, grid, , , ,N
Point30,xy, , ,in, deg, , ,N, , ,W, grid, , , ,N
Projection Setup, 0.000000000, 117.000000000, 1.000000000, 500000.00, 0.00,,,,,
Map Feature = MF ; Map Comment = MC These follow if they exist
Track File = TF These follow if they exist
Moving Map Parameters = MM? These follow if they exist
MM0,Yes
MMPNUM,4
MMPXY,1,129,90
MMPXY,2,2910,85
MMPXY,3,2964,2977
MMPXY,4,84,2985
MMPLL,1, 114.000000, 71.333333
MMPLL,2, 116.000000, 71.333333
MMPLL,3, 116.000000, 70.666667
MMPLL,4, 114.000000, 70.666667
MM1B,23.994812
MOP,Map Open Position,0,0
IWH,Map Image Width/Height,3048,3084
