OziExplorer Map Data File Version 2.2
200k--r50-05_06.gif
200k--r50-05_06.gif
1 ,Map Code,
Pulkovo 1942 (2),WGS 84, 0.0000, 0.0000,WGS 84
Reserved 1
Reserved 2
Magnetic Variation,,,E
Map Projection,Transverse Mercator,PolyCal,No,AutoCalOnly,No,BSBUseWPX,No
Point01,xy, 143, 83,in, deg, 72, 0.0000,N, 118, 0.0000,E, grid, , , ,N
Point02,xy, 1486, 97,in, deg, 72, 0.0000,N, 119, 0.0000,E, grid, , , ,N
Point03,xy, 2831, 88,in, deg, 72, 0.0000,N, 120, 0.0000,E, grid, , , ,N
Point04,xy, 115, 1530,in, deg, 71, 40.0000,N, 118, 0.0000,E, grid, , , ,N
Point05,xy, 1484, 1544,in, deg, 71, 40.0000,N, 119, 0.0000,E, grid, , , ,N
Point06,xy, 2851, 1536,in, deg, 71, 40.0000,N, 120, 0.0000,E, grid, , , ,N
Point07,xy, 87, 2977,in, deg, 71, 20.0000,N, 118, 0.0000,E, grid, , , ,N
Point08,xy, 1480, 2991,in, deg, 71, 20.0000,N, 119, 0.0000,E, grid, , , ,N
Point09,xy, 2871, 2982,in, deg, 71, 20.0000,N, 120, 0.0000,E, grid, , , ,N
Point10,xy, , ,in, deg, , ,N, , ,W, grid, , , ,N
Point11,xy, , ,in, deg, , ,N, , ,W, grid, , , ,N
Point12,xy, , ,in, deg, , ,N, , ,W, grid, , , ,N
Point13,xy, , ,in, deg, , ,N, , ,W, grid, , , ,N
Point14,xy, , ,in, deg, , ,N, , ,W, grid, , , ,N
Point15,xy, , ,in, deg, , ,N, , ,W, grid, , , ,N
Point16,xy, , ,in, deg, , ,N, , ,W, grid, , , ,N
Point17,xy, , ,in, deg, , ,N, , ,W, grid, , , ,N
Point18,xy, , ,in, deg, , ,N, , ,W, grid, , , ,N
Point19,xy, , ,in, deg, , ,N, , ,W, grid, , , ,N
Point20,xy, , ,in, deg, , ,N, , ,W, grid, , , ,N
Point21,xy, , ,in, deg, , ,N, , ,W, grid, , , ,N
Point22,xy, , ,in, deg, , ,N, , ,W, grid, , , ,N
Point23,xy, , ,in, deg, , ,N, , ,W, grid, , , ,N
Point24,xy, , ,in, deg, , ,N, , ,W, grid, , , ,N
Point25,xy, , ,in, deg, , ,N, , ,W, grid, , , ,N
Point26,xy, , ,in, deg, , ,N, , ,W, grid, , , ,N
Point27,xy, , ,in, deg, , ,N, , ,W, grid, , , ,N
Point28,xy, , ,in, deg, , ,N, , ,W, grid, , , ,N
Point29,xy, , ,in, deg, , ,N, , ,W, grid, , , ,N
Point30,xy, , ,in, deg, , ,N, , ,W, grid, , , ,N
Projection Setup, 0.000000000, 117.000000000, 1.000000000, 500000.00, 0.00,,,,,
Map Feature = MF ; Map Comment = MC These follow if they exist
Track File = TF These follow if they exist
Moving Map Parameters = MM? These follow if they exist
MM0,Yes
MMPNUM,4
MMPXY,1,143,83
MMPXY,2,2831,88
MMPXY,3,2871,2982
MMPXY,4,87,2977
MMPLL,1, 118.000000, 72.000000
MMPLL,2, 120.000000, 72.000000
MMPLL,3, 120.000000, 71.333333
MMPLL,4, 118.000000, 71.333333
MM1B,24.072869
MOP,Map Open Position,0,0
IWH,Map Image Width/Height,2954,3074
