OziExplorer Map Data File Version 2.2
200k--r49-31_32.gif
200k--r49-31_32.gif
1 ,Map Code,
Pulkovo 1942 (2),WGS 84, 0.0000, 0.0000,WGS 84
Reserved 1
Reserved 2
Magnetic Variation,,,E
Map Projection,Transverse Mercator,PolyCal,No,AutoCalOnly,No,BSBUseWPX,No
Point01,xy, 144, 84,in, deg, 68, 40.0000,N, 108, 0.0000,E, grid, , , ,N
Point02,xy, 1725, 96,in, deg, 68, 40.0000,N, 109, 0.0000,E, grid, , , ,N
Point03,xy, 3308, 84,in, deg, 68, 40.0000,N, 110, 0.0000,E, grid, , , ,N
Point04,xy, 118, 1529,in, deg, 68, 20.0000,N, 108, 0.0000,E, grid, , , ,N
Point05,xy, 1724, 1546,in, deg, 68, 20.0000,N, 109, 0.0000,E, grid, , , ,N
Point06,xy, 3330, 1534,in, deg, 68, 20.0000,N, 110, 0.0000,E, grid, , , ,N
Point07,xy, 90, 2977,in, deg, 68, 0.0000,N, 108, 0.0000,E, grid, , , ,N
Point08,xy, 1723, 2994,in, deg, 68, 0.0000,N, 109, 0.0000,E, grid, , , ,N
Point09,xy, 3351, 2982,in, deg, 68, 0.0000,N, 110, 0.0000,E, grid, , , ,N
Point10,xy, , ,in, deg, , ,N, , ,W, grid, , , ,N
Point11,xy, , ,in, deg, , ,N, , ,W, grid, , , ,N
Point12,xy, , ,in, deg, , ,N, , ,W, grid, , , ,N
Point13,xy, , ,in, deg, , ,N, , ,W, grid, , , ,N
Point14,xy, , ,in, deg, , ,N, , ,W, grid, , , ,N
Point15,xy, , ,in, deg, , ,N, , ,W, grid, , , ,N
Point16,xy, , ,in, deg, , ,N, , ,W, grid, , , ,N
Point17,xy, , ,in, deg, , ,N, , ,W, grid, , , ,N
Point18,xy, , ,in, deg, , ,N, , ,W, grid, , , ,N
Point19,xy, , ,in, deg, , ,N, , ,W, grid, , , ,N
Point20,xy, , ,in, deg, , ,N, , ,W, grid, , , ,N
Point21,xy, , ,in, deg, , ,N, , ,W, grid, , , ,N
Point22,xy, , ,in, deg, , ,N, , ,W, grid, , , ,N
Point23,xy, , ,in, deg, , ,N, , ,W, grid, , , ,N
Point24,xy, , ,in, deg, , ,N, , ,W, grid, , , ,N
Point25,xy, , ,in, deg, , ,N, , ,W, grid, , , ,N
Point26,xy, , ,in, deg, , ,N, , ,W, grid, , , ,N
Point27,xy, , ,in, deg, , ,N, , ,W, grid, , , ,N
Point28,xy, , ,in, deg, , ,N, , ,W, grid, , , ,N
Point29,xy, , ,in, deg, , ,N, , ,W, grid, , , ,N
Point30,xy, , ,in, deg, , ,N, , ,W, grid, , , ,N
Projection Setup, 0.000000000, 111.000000000, 1.000000000, 500000.00, 0.00,,,,,
Map Feature = MF ; Map Comment = MC These follow if they exist
Track File = TF These follow if they exist
Moving Map Parameters = MM? These follow if they exist
MM0,Yes
MMPNUM,4
MMPXY,1,144,84
MMPXY,2,3308,84
MMPXY,3,3351,2982
MMPXY,4,90,2977
MMPLL,1, 108.000000, 68.666667
MMPLL,2, 110.000000, 68.666667
MMPLL,3, 110.000000, 68.000000
MMPLL,4, 108.000000, 68.000000
MM1B,23.994812
MOP,Map Open Position,0,0
IWH,Map Image Width/Height,3432,3084
