OziExplorer Map Data File Version 2.2
200k--r49-21_22.gif
200k--r49-21_22.gif
1 ,Map Code,
Pulkovo 1942 (2),WGS 84, 0.0000, 0.0000,WGS 84
Reserved 1
Reserved 2
Magnetic Variation,,,E
Map Projection,Transverse Mercator,PolyCal,No,AutoCalOnly,No,BSBUseWPX,No
Point01,xy, 114, 77,in, deg, 70, 0.0000,N, 110, 0.0000,E, grid, , , ,N
Point02,xy, 1600, 95,in, deg, 70, 0.0000,N, 111, 0.0000,E, grid, , , ,N
Point03,xy, 3088, 85,in, deg, 70, 0.0000,N, 112, 0.0000,E, grid, , , ,N
Point04,xy, 86, 1525,in, deg, 69, 40.0000,N, 110, 0.0000,E, grid, , , ,N
Point05,xy, 1596, 1539,in, deg, 69, 40.0000,N, 111, 0.0000,E, grid, , , ,N
Point06,xy, 3110, 1533,in, deg, 69, 40.0000,N, 112, 0.0000,E, grid, , , ,N
Point07,xy, 58, 2975,in, deg, 69, 20.0000,N, 110, 0.0000,E, grid, , , ,N
Point08,xy, 1593, 2993,in, deg, 69, 20.0000,N, 111, 0.0000,E, grid, , , ,N
Point09,xy, 3129, 2983,in, deg, 69, 20.0000,N, 112, 0.0000,E, grid, , , ,N
Point10,xy, , ,in, deg, , ,N, , ,W, grid, , , ,N
Point11,xy, , ,in, deg, , ,N, , ,W, grid, , , ,N
Point12,xy, , ,in, deg, , ,N, , ,W, grid, , , ,N
Point13,xy, , ,in, deg, , ,N, , ,W, grid, , , ,N
Point14,xy, , ,in, deg, , ,N, , ,W, grid, , , ,N
Point15,xy, , ,in, deg, , ,N, , ,W, grid, , , ,N
Point16,xy, , ,in, deg, , ,N, , ,W, grid, , , ,N
Point17,xy, , ,in, deg, , ,N, , ,W, grid, , , ,N
Point18,xy, , ,in, deg, , ,N, , ,W, grid, , , ,N
Point19,xy, , ,in, deg, , ,N, , ,W, grid, , , ,N
Point20,xy, , ,in, deg, , ,N, , ,W, grid, , , ,N
Point21,xy, , ,in, deg, , ,N, , ,W, grid, , , ,N
Point22,xy, , ,in, deg, , ,N, , ,W, grid, , , ,N
Point23,xy, , ,in, deg, , ,N, , ,W, grid, , , ,N
Point24,xy, , ,in, deg, , ,N, , ,W, grid, , , ,N
Point25,xy, , ,in, deg, , ,N, , ,W, grid, , , ,N
Point26,xy, , ,in, deg, , ,N, , ,W, grid, , , ,N
Point27,xy, , ,in, deg, , ,N, , ,W, grid, , , ,N
Point28,xy, , ,in, deg, , ,N, , ,W, grid, , , ,N
Point29,xy, , ,in, deg, , ,N, , ,W, grid, , , ,N
Point30,xy, , ,in, deg, , ,N, , ,W, grid, , , ,N
Projection Setup, 0.000000000, 111.000000000, 1.000000000, 500000.00, 0.00,,,,,
Map Feature = MF ; Map Comment = MC These follow if they exist
Track File = TF These follow if they exist
Moving Map Parameters = MM? These follow if they exist
MM0,Yes
MMPNUM,4
MMPXY,1,114,77
MMPXY,2,3088,85
MMPXY,3,3129,2983
MMPXY,4,58,2975
MMPLL,1, 110.000000, 70.000000
MMPLL,2, 112.000000, 70.000000
MMPLL,3, 112.000000, 69.333333
MMPLL,4, 110.000000, 69.333333
MM1B,24.246396
MOP,Map Open Position,0,0
IWH,Map Image Width/Height,3200,3052
