OziExplorer Map Data File Version 2.2
500k--r43-3_4.gif
500k--r43-3_4.gif
1 ,Map Code,
Pulkovo 1942 (2),WGS 84, 0.0000, 0.0000,WGS 84
Reserved 1
Reserved 2
Magnetic Variation,,,E
Map Projection,Transverse Mercator,PolyCal,No,AutoCalOnly,No,BSBUseWPX,No
Point01,xy, 242, 78,in, deg, 70, 0.0000,N, 72, 0.0000,E, grid, , , ,N
Point02,xy, 2136, 123,in, deg, 70, 0.0000,N, 75, 0.0000,E, grid, , , ,N
Point03,xy, 4031, 91,in, deg, 70, 0.0000,N, 78, 0.0000,E, grid, , , ,N
Point04,xy, 151, 1933,in, deg, 69, 0.0000,N, 72, 0.0000,E, grid, , , ,N
Point05,xy, 2121, 1980,in, deg, 69, 0.0000,N, 75, 0.0000,E, grid, , , ,N
Point06,xy, 4097, 1947,in, deg, 69, 0.0000,N, 78, 0.0000,E, grid, , , ,N
Point07,xy, 63, 3790,in, deg, 68, 0.0000,N, 72, 0.0000,E, grid, , , ,N
Point08,xy, 2121, 3836,in, deg, 68, 0.0000,N, 75, 0.0000,E, grid, , , ,N
Point09,xy, 4178, 3787,in, deg, 68, 0.0000,N, 78, 0.0000,E, grid, , , ,N
Point10,xy, , ,in, deg, , ,N, , ,W, grid, , , ,N
Point11,xy, , ,in, deg, , ,N, , ,W, grid, , , ,N
Point12,xy, , ,in, deg, , ,N, , ,W, grid, , , ,N
Point13,xy, , ,in, deg, , ,N, , ,W, grid, , , ,N
Point14,xy, , ,in, deg, , ,N, , ,W, grid, , , ,N
Point15,xy, , ,in, deg, , ,N, , ,W, grid, , , ,N
Point16,xy, , ,in, deg, , ,N, , ,W, grid, , , ,N
Point17,xy, , ,in, deg, , ,N, , ,W, grid, , , ,N
Point18,xy, , ,in, deg, , ,N, , ,W, grid, , , ,N
Point19,xy, , ,in, deg, , ,N, , ,W, grid, , , ,N
Point20,xy, , ,in, deg, , ,N, , ,W, grid, , , ,N
Point21,xy, , ,in, deg, , ,N, , ,W, grid, , , ,N
Point22,xy, , ,in, deg, , ,N, , ,W, grid, , , ,N
Point23,xy, , ,in, deg, , ,N, , ,W, grid, , , ,N
Point24,xy, , ,in, deg, , ,N, , ,W, grid, , , ,N
Point25,xy, , ,in, deg, , ,N, , ,W, grid, , , ,N
Point26,xy, , ,in, deg, , ,N, , ,W, grid, , , ,N
Point27,xy, , ,in, deg, , ,N, , ,W, grid, , , ,N
Point28,xy, , ,in, deg, , ,N, , ,W, grid, , , ,N
Point29,xy, , ,in, deg, , ,N, , ,W, grid, , , ,N
Point30,xy, , ,in, deg, , ,N, , ,W, grid, , , ,N
Projection Setup, 0.000000000, 75.000000000, 1.000000000, 500000.00, 0.00,,,,,
Map Feature = MF ; Map Comment = MC These follow if they exist
Track File = TF These follow if they exist
Moving Map Parameters = MM? These follow if they exist
MM0,Yes
MMPNUM,4
MMPXY,1,242,78
MMPXY,2,4031,91
MMPXY,3,4178,3787
MMPXY,4,63,3790
MMPLL,1, 72.000000, 70.000000
MMPLL,2, 78.000000, 70.000000
MMPLL,3, 78.000000, 68.000000
MMPLL,4, 72.000000, 68.000000
MM1B,56.762976
MOP,Map Open Position,0,0
IWH,Map Image Width/Height,4250,3911
