OziExplorer Map Data File Version 2.2
200k--r44-09_10.gif
200k--r44-09_10.gif
1 ,Map Code,
Pulkovo 1942 (2),WGS 84, 0.0000, 0.0000,WGS 84
Reserved 1
Reserved 2
Magnetic Variation,,,E
Map Projection,Transverse Mercator,PolyCal,No,AutoCalOnly,No,BSBUseWPX,No
Point01,xy, 109, 82,in, deg, 71, 20.0000,N, 80, 0.0000,E, grid, , , ,N
Point02,xy, 1502, 95,in, deg, 71, 20.0000,N, 81, 0.0000,E, grid, , , ,N
Point03,xy, 2895, 86,in, deg, 71, 20.0000,N, 82, 0.0000,E, grid, , , ,N
Point04,xy, 83, 1528,in, deg, 71, 0.0000,N, 80, 0.0000,E, grid, , , ,N
Point05,xy, 1500, 1541,in, deg, 71, 0.0000,N, 81, 0.0000,E, grid, , , ,N
Point06,xy, 2915, 1534,in, deg, 71, 0.0000,N, 82, 0.0000,E, grid, , , ,N
Point07,xy, 56, 2975,in, deg, 70, 40.0000,N, 80, 0.0000,E, grid, , , ,N
Point08,xy, 1497, 2989,in, deg, 70, 40.0000,N, 81, 0.0000,E, grid, , , ,N
Point09,xy, 2935, 2981,in, deg, 70, 40.0000,N, 82, 0.0000,E, grid, , , ,N
Point10,xy, , ,in, deg, , ,N, , ,W, grid, , , ,N
Point11,xy, , ,in, deg, , ,N, , ,W, grid, , , ,N
Point12,xy, , ,in, deg, , ,N, , ,W, grid, , , ,N
Point13,xy, , ,in, deg, , ,N, , ,W, grid, , , ,N
Point14,xy, , ,in, deg, , ,N, , ,W, grid, , , ,N
Point15,xy, , ,in, deg, , ,N, , ,W, grid, , , ,N
Point16,xy, , ,in, deg, , ,N, , ,W, grid, , , ,N
Point17,xy, , ,in, deg, , ,N, , ,W, grid, , , ,N
Point18,xy, , ,in, deg, , ,N, , ,W, grid, , , ,N
Point19,xy, , ,in, deg, , ,N, , ,W, grid, , , ,N
Point20,xy, , ,in, deg, , ,N, , ,W, grid, , , ,N
Point21,xy, , ,in, deg, , ,N, , ,W, grid, , , ,N
Point22,xy, , ,in, deg, , ,N, , ,W, grid, , , ,N
Point23,xy, , ,in, deg, , ,N, , ,W, grid, , , ,N
Point24,xy, , ,in, deg, , ,N, , ,W, grid, , , ,N
Point25,xy, , ,in, deg, , ,N, , ,W, grid, , , ,N
Point26,xy, , ,in, deg, , ,N, , ,W, grid, , , ,N
Point27,xy, , ,in, deg, , ,N, , ,W, grid, , , ,N
Point28,xy, , ,in, deg, , ,N, , ,W, grid, , , ,N
Point29,xy, , ,in, deg, , ,N, , ,W, grid, , , ,N
Point30,xy, , ,in, deg, , ,N, , ,W, grid, , , ,N
Projection Setup, 0.000000000, 81.000000000, 1.000000000, 500000.00, 0.00,,,,,
Map Feature = MF ; Map Comment = MC These follow if they exist
Track File = TF These follow if they exist
Moving Map Parameters = MM? These follow if they exist
MM0,Yes
MMPNUM,4
MMPXY,1,109,82
MMPXY,2,2895,86
MMPXY,3,2935,2981
MMPXY,4,56,2975
MMPLL,1, 80.000000, 71.333333
MMPLL,2, 82.000000, 71.333333
MMPLL,3, 82.000000, 70.666667
MMPLL,4, 80.000000, 70.666667
MM1B,24.167211
MOP,Map Open Position,0,0
IWH,Map Image Width/Height,3000,3062
