OziExplorer Map Data File Version 2.2
200k--r43-31_32.gif
200k--r43-31_32.gif
1 ,Map Code,
Pulkovo 1942 (2),WGS 84, 0.0000, 0.0000,WGS 84
Reserved 1
Reserved 2
Magnetic Variation,,,E
Map Projection,Transverse Mercator,PolyCal,No,AutoCalOnly,No,BSBUseWPX,No
Point01,xy, 129, 78,in, deg, 68, 40.0000,N, 72, 0.0000,E, grid, , , ,N
Point02,xy, 1710, 94,in, deg, 68, 40.0000,N, 73, 0.0000,E, grid, , , ,N
Point03,xy, 3293, 86,in, deg, 68, 40.0000,N, 74, 0.0000,E, grid, , , ,N
Point04,xy, 102, 1526,in, deg, 68, 20.0000,N, 72, 0.0000,E, grid, , , ,N
Point05,xy, 1705, 1541,in, deg, 68, 20.0000,N, 73, 0.0000,E, grid, , , ,N
Point06,xy, 3313, 1532,in, deg, 68, 20.0000,N, 74, 0.0000,E, grid, , , ,N
Point07,xy, 72, 2970,in, deg, 68, 0.0000,N, 72, 0.0000,E, grid, , , ,N
Point08,xy, 1701, 2987,in, deg, 68, 0.0000,N, 73, 0.0000,E, grid, , , ,N
Point09,xy, 3332, 2977,in, deg, 68, 0.0000,N, 74, 0.0000,E, grid, , , ,N
Point10,xy, , ,in, deg, , ,N, , ,W, grid, , , ,N
Point11,xy, , ,in, deg, , ,N, , ,W, grid, , , ,N
Point12,xy, , ,in, deg, , ,N, , ,W, grid, , , ,N
Point13,xy, , ,in, deg, , ,N, , ,W, grid, , , ,N
Point14,xy, , ,in, deg, , ,N, , ,W, grid, , , ,N
Point15,xy, , ,in, deg, , ,N, , ,W, grid, , , ,N
Point16,xy, , ,in, deg, , ,N, , ,W, grid, , , ,N
Point17,xy, , ,in, deg, , ,N, , ,W, grid, , , ,N
Point18,xy, , ,in, deg, , ,N, , ,W, grid, , , ,N
Point19,xy, , ,in, deg, , ,N, , ,W, grid, , , ,N
Point20,xy, , ,in, deg, , ,N, , ,W, grid, , , ,N
Point21,xy, , ,in, deg, , ,N, , ,W, grid, , , ,N
Point22,xy, , ,in, deg, , ,N, , ,W, grid, , , ,N
Point23,xy, , ,in, deg, , ,N, , ,W, grid, , , ,N
Point24,xy, , ,in, deg, , ,N, , ,W, grid, , , ,N
Point25,xy, , ,in, deg, , ,N, , ,W, grid, , , ,N
Point26,xy, , ,in, deg, , ,N, , ,W, grid, , , ,N
Point27,xy, , ,in, deg, , ,N, , ,W, grid, , , ,N
Point28,xy, , ,in, deg, , ,N, , ,W, grid, , , ,N
Point29,xy, , ,in, deg, , ,N, , ,W, grid, , , ,N
Point30,xy, , ,in, deg, , ,N, , ,W, grid, , , ,N
Projection Setup, 0.000000000, 75.000000000, 1.000000000, 500000.00, 0.00,,,,,
Map Feature = MF ; Map Comment = MC These follow if they exist
Track File = TF These follow if they exist
Moving Map Parameters = MM? These follow if they exist
MM0,Yes
MMPNUM,4
MMPXY,1,129,78
MMPXY,2,3293,86
MMPXY,3,3332,2977
MMPXY,4,72,2970
MMPLL,1, 72.000000, 68.666667
MMPLL,2, 74.000000, 68.666667
MMPLL,3, 74.000000, 68.000000
MMPLL,4, 72.000000, 68.000000
MM1B,24.072869
MOP,Map Open Position,0,0
IWH,Map Image Width/Height,3412,3074
