OziExplorer Map Data File Version 2.2
200k--r43-03_04.gif
200k--r43-03_04.gif
1 ,Map Code,
Pulkovo 1942 (2),WGS 84, 0.0000, 0.0000,WGS 84
Reserved 1
Reserved 2
Magnetic Variation,,,E
Map Projection,Transverse Mercator,PolyCal,No,AutoCalOnly,No,BSBUseWPX,No
Point01,xy, 104, 80,in, deg, 72, 0.0000,N, 74, 0.0000,E, grid, , , ,N
Point02,xy, 1451, 86,in, deg, 72, 0.0000,N, 75, 0.0000,E, grid, , , ,N
Point03,xy, 2793, 71,in, deg, 72, 0.0000,N, 76, 0.0000,E, grid, , , ,N
Point04,xy, 84, 1531,in, deg, 71, 40.0000,N, 74, 0.0000,E, grid, , , ,N
Point05,xy, 1454, 1537,in, deg, 71, 40.0000,N, 75, 0.0000,E, grid, , , ,N
Point06,xy, 2821, 1520,in, deg, 71, 40.0000,N, 76, 0.0000,E, grid, , , ,N
Point07,xy, 67, 2983,in, deg, 71, 20.0000,N, 74, 0.0000,E, grid, , , ,N
Point08,xy, 1458, 2988,in, deg, 71, 20.0000,N, 75, 0.0000,E, grid, , , ,N
Point09,xy, 2851, 2967,in, deg, 71, 20.0000,N, 76, 0.0000,E, grid, , , ,N
Point10,xy, , ,in, deg, , ,N, , ,W, grid, , , ,N
Point11,xy, , ,in, deg, , ,N, , ,W, grid, , , ,N
Point12,xy, , ,in, deg, , ,N, , ,W, grid, , , ,N
Point13,xy, , ,in, deg, , ,N, , ,W, grid, , , ,N
Point14,xy, , ,in, deg, , ,N, , ,W, grid, , , ,N
Point15,xy, , ,in, deg, , ,N, , ,W, grid, , , ,N
Point16,xy, , ,in, deg, , ,N, , ,W, grid, , , ,N
Point17,xy, , ,in, deg, , ,N, , ,W, grid, , , ,N
Point18,xy, , ,in, deg, , ,N, , ,W, grid, , , ,N
Point19,xy, , ,in, deg, , ,N, , ,W, grid, , , ,N
Point20,xy, , ,in, deg, , ,N, , ,W, grid, , , ,N
Point21,xy, , ,in, deg, , ,N, , ,W, grid, , , ,N
Point22,xy, , ,in, deg, , ,N, , ,W, grid, , , ,N
Point23,xy, , ,in, deg, , ,N, , ,W, grid, , , ,N
Point24,xy, , ,in, deg, , ,N, , ,W, grid, , , ,N
Point25,xy, , ,in, deg, , ,N, , ,W, grid, , , ,N
Point26,xy, , ,in, deg, , ,N, , ,W, grid, , , ,N
Point27,xy, , ,in, deg, , ,N, , ,W, grid, , , ,N
Point28,xy, , ,in, deg, , ,N, , ,W, grid, , , ,N
Point29,xy, , ,in, deg, , ,N, , ,W, grid, , , ,N
Point30,xy, , ,in, deg, , ,N, , ,W, grid, , , ,N
Projection Setup, 0.000000000, 75.000000000, 1.000000000, 500000.00, 0.00,,,,,
Map Feature = MF ; Map Comment = MC These follow if they exist
Track File = TF These follow if they exist
Moving Map Parameters = MM? These follow if they exist
MM0,Yes
MMPNUM,4
MMPXY,1,104,80
MMPXY,2,2793,71
MMPXY,3,2851,2967
MMPXY,4,67,2983
MMPLL,1, 74.000000, 72.000000
MMPLL,2, 76.000000, 72.000000
MMPLL,3, 76.000000, 71.333333
MMPLL,4, 74.000000, 71.333333
MM1B,24.183007
MOP,Map Open Position,0,0
IWH,Map Image Width/Height,2920,3060
