OziExplorer Map Data File Version 2.2
100k--r44-105_106.gif
100k--r44-105_106.gif
1 ,Map Code,
Pulkovo 1942 (2),WGS 84, 0.0000, 0.0000,WGS 84
Reserved 1
Reserved 2
Magnetic Variation,,,E
Map Projection,Transverse Mercator,PolyCal,No,AutoCalOnly,No,BSBUseWPX,No
Point01,xy, 117, 96,in, deg, 69, 20.0000,N, 82, 0.0000,E, grid, , , ,N
Point02,xy, 1651, 102,in, deg, 69, 20.0000,N, 82, 30.0000,E, grid, , , ,N
Point03,xy, 3184, 96,in, deg, 69, 20.0000,N, 83, 0.0000,E, grid, , , ,N
Point04,xy, 104, 1550,ex, deg, 69, 10.0000,N, 82, 0.0000,E, grid, , , ,N
Point05,xy, 1637, 1564,ex, deg, 69, 10.0000,N, 82, 30.0000,E, grid, , , ,N
Point06,xy, 3195, 1550,ex, deg, 69, 10.0000,N, 83, 0.0000,E, grid, , , ,N
Point07,xy, 89, 3005,in, deg, 69, 0.0000,N, 82, 0.0000,E, grid, , , ,N
Point08,xy, 1646, 3011,in, deg, 69, 0.0000,N, 82, 30.0000,E, grid, , , ,N
Point09,xy, 3205, 3001,in, deg, 69, 0.0000,N, 83, 0.0000,E, grid, , , ,N
Point10,xy, , ,in, deg, , ,N, , ,W, grid, , , ,N
Point11,xy, , ,in, deg, , ,N, , ,W, grid, , , ,N
Point12,xy, , ,in, deg, , ,N, , ,W, grid, , , ,N
Point13,xy, , ,in, deg, , ,N, , ,W, grid, , , ,N
Point14,xy, , ,in, deg, , ,N, , ,W, grid, , , ,N
Point15,xy, , ,in, deg, , ,N, , ,W, grid, , , ,N
Point16,xy, , ,in, deg, , ,N, , ,W, grid, , , ,N
Point17,xy, , ,in, deg, , ,N, , ,W, grid, , , ,N
Point18,xy, , ,in, deg, , ,N, , ,W, grid, , , ,N
Point19,xy, , ,in, deg, , ,N, , ,W, grid, , , ,N
Point20,xy, , ,in, deg, , ,N, , ,W, grid, , , ,N
Point21,xy, , ,in, deg, , ,N, , ,W, grid, , , ,N
Point22,xy, , ,in, deg, , ,N, , ,W, grid, , , ,N
Point23,xy, , ,in, deg, , ,N, , ,W, grid, , , ,N
Point24,xy, , ,in, deg, , ,N, , ,W, grid, , , ,N
Point25,xy, , ,in, deg, , ,N, , ,W, grid, , , ,N
Point26,xy, , ,in, deg, , ,N, , ,W, grid, , , ,N
Point27,xy, , ,in, deg, , ,N, , ,W, grid, , , ,N
Point28,xy, , ,in, deg, , ,N, , ,W, grid, , , ,N
Point29,xy, , ,in, deg, , ,N, , ,W, grid, , , ,N
Point30,xy, , ,in, deg, , ,N, , ,W, grid, , , ,N
Projection Setup, 0.000000000, 81.000000000, 1.000000000, 500000.00, 0.00,,,,,
Map Feature = MF ; Map Comment = MC These follow if they exist
Track File = TF These follow if they exist
Moving Map Parameters = MM? These follow if they exist
MM0,Yes
MMPNUM,4
MMPXY,1,117,96
MMPXY,2,3184,96
MMPXY,3,3205,3001
MMPXY,4,89,3005
MMPLL,1, 82.000000, 69.333333
MMPLL,2, 83.000000, 69.333333
MMPLL,3, 83.000000, 69.000000
MMPLL,4, 82.000000, 69.000000
MM1B,11.920103
MOP,Map Open Position,0,0
IWH,Map Image Width/Height,3290,3104
