OziExplorer Map Data File Version 2.2
100k--r44-093_094.gif
100k--r44-093_094.gif
1 ,Map Code,
Pulkovo 1942 (2),WGS 84, 0.0000, 0.0000,WGS 84
Reserved 1
Reserved 2
Magnetic Variation,,,E
Map Projection,Transverse Mercator,PolyCal,No,AutoCalOnly,No,BSBUseWPX,No
Point01,xy, 103, 92,in, deg, 69, 40.0000,N, 82, 0.0000,E, grid, , , ,N
Point02,xy, 1614, 94,in, deg, 69, 40.0000,N, 82, 30.0000,E, grid, , , ,N
Point03,xy, 3123, 83,in, deg, 69, 40.0000,N, 83, 0.0000,E, grid, , , ,N
Point04,xy, 94, 1543,ex, deg, 69, 30.0000,N, 82, 0.0000,E, grid, , , ,N
Point05,xy, 1595, 1556,ex, deg, 69, 30.0000,N, 82, 30.0000,E, grid, , , ,N
Point06,xy, 3137, 1535,ex, deg, 69, 30.0000,N, 83, 0.0000,E, grid, , , ,N
Point07,xy, 83, 2996,in, deg, 69, 20.0000,N, 82, 0.0000,E, grid, , , ,N
Point08,xy, 1618, 2997,in, deg, 69, 20.0000,N, 82, 30.0000,E, grid, , , ,N
Point09,xy, 3149, 2988,in, deg, 69, 20.0000,N, 83, 0.0000,E, grid, , , ,N
Point10,xy, , ,in, deg, , ,N, , ,W, grid, , , ,N
Point11,xy, , ,in, deg, , ,N, , ,W, grid, , , ,N
Point12,xy, , ,in, deg, , ,N, , ,W, grid, , , ,N
Point13,xy, , ,in, deg, , ,N, , ,W, grid, , , ,N
Point14,xy, , ,in, deg, , ,N, , ,W, grid, , , ,N
Point15,xy, , ,in, deg, , ,N, , ,W, grid, , , ,N
Point16,xy, , ,in, deg, , ,N, , ,W, grid, , , ,N
Point17,xy, , ,in, deg, , ,N, , ,W, grid, , , ,N
Point18,xy, , ,in, deg, , ,N, , ,W, grid, , , ,N
Point19,xy, , ,in, deg, , ,N, , ,W, grid, , , ,N
Point20,xy, , ,in, deg, , ,N, , ,W, grid, , , ,N
Point21,xy, , ,in, deg, , ,N, , ,W, grid, , , ,N
Point22,xy, , ,in, deg, , ,N, , ,W, grid, , , ,N
Point23,xy, , ,in, deg, , ,N, , ,W, grid, , , ,N
Point24,xy, , ,in, deg, , ,N, , ,W, grid, , , ,N
Point25,xy, , ,in, deg, , ,N, , ,W, grid, , , ,N
Point26,xy, , ,in, deg, , ,N, , ,W, grid, , , ,N
Point27,xy, , ,in, deg, , ,N, , ,W, grid, , , ,N
Point28,xy, , ,in, deg, , ,N, , ,W, grid, , , ,N
Point29,xy, , ,in, deg, , ,N, , ,W, grid, , , ,N
Point30,xy, , ,in, deg, , ,N, , ,W, grid, , , ,N
Projection Setup, 0.000000000, 81.000000000, 1.000000000, 500000.00, 0.00,,,,,
Map Feature = MF ; Map Comment = MC These follow if they exist
Track File = TF These follow if they exist
Moving Map Parameters = MM? These follow if they exist
MM0,Yes
MMPNUM,4
MMPXY,1,103,92
MMPXY,2,3123,83
MMPXY,3,3149,2988
MMPXY,4,83,2996
MMPLL,1, 82.000000, 69.666667
MMPLL,2, 83.000000, 69.666667
MMPLL,3, 83.000000, 69.333333
MMPLL,4, 82.000000, 69.333333
MM1B,11.997406
MOP,Map Open Position,0,0
IWH,Map Image Width/Height,3226,3084
