OziExplorer Map Data File Version 2.2
100k--r43-113_114.gif
100k--r43-113_114.gif
1 ,Map Code,
Pulkovo 1942 (2),WGS 84, 0.0000, 0.0000,WGS 84
Reserved 1
Reserved 2
Magnetic Variation,,,E
Map Projection,Transverse Mercator,PolyCal,No,AutoCalOnly,No,BSBUseWPX,No
Point01,xy, 104, 100,in, deg, 69, 0.0000,N, 74, 0.0000,E, grid, , , ,N
Point02,xy, 1660, 102,in, deg, 69, 0.0000,N, 74, 30.0000,E, grid, , , ,N
Point03,xy, 3219, 91,in, deg, 69, 0.0000,N, 75, 0.0000,E, grid, , , ,N
Point04,xy, 98, 1550,in, deg, 68, 50.0000,N, 74, 0.0000,E, grid, , , ,N
Point05,xy, 1669, 1553,in, deg, 68, 50.0000,N, 74, 30.0000,E, grid, , , ,N
Point06,xy, 3238, 1538,in, deg, 68, 50.0000,N, 75, 0.0000,E, grid, , , ,N
Point07,xy, 94, 2998,in, deg, 68, 40.0000,N, 74, 0.0000,E, grid, , , ,N
Point08,xy, 1676, 2998,in, deg, 68, 40.0000,N, 74, 30.0000,E, grid, , , ,N
Point09,xy, 3258, 2988,in, deg, 68, 40.0000,N, 75, 0.0000,E, grid, , , ,N
Point10,xy, , ,in, deg, , ,N, , ,W, grid, , , ,N
Point11,xy, , ,in, deg, , ,N, , ,W, grid, , , ,N
Point12,xy, , ,in, deg, , ,N, , ,W, grid, , , ,N
Point13,xy, , ,in, deg, , ,N, , ,W, grid, , , ,N
Point14,xy, , ,in, deg, , ,N, , ,W, grid, , , ,N
Point15,xy, , ,in, deg, , ,N, , ,W, grid, , , ,N
Point16,xy, , ,in, deg, , ,N, , ,W, grid, , , ,N
Point17,xy, , ,in, deg, , ,N, , ,W, grid, , , ,N
Point18,xy, , ,in, deg, , ,N, , ,W, grid, , , ,N
Point19,xy, , ,in, deg, , ,N, , ,W, grid, , , ,N
Point20,xy, , ,in, deg, , ,N, , ,W, grid, , , ,N
Point21,xy, , ,in, deg, , ,N, , ,W, grid, , , ,N
Point22,xy, , ,in, deg, , ,N, , ,W, grid, , , ,N
Point23,xy, , ,in, deg, , ,N, , ,W, grid, , , ,N
Point24,xy, , ,in, deg, , ,N, , ,W, grid, , , ,N
Point25,xy, , ,in, deg, , ,N, , ,W, grid, , , ,N
Point26,xy, , ,in, deg, , ,N, , ,W, grid, , , ,N
Point27,xy, , ,in, deg, , ,N, , ,W, grid, , , ,N
Point28,xy, , ,in, deg, , ,N, , ,W, grid, , , ,N
Point29,xy, , ,in, deg, , ,N, , ,W, grid, , , ,N
Point30,xy, , ,in, deg, , ,N, , ,W, grid, , , ,N
Projection Setup, 0.000000000, 75.000000000, 1.000000000, 500000.00, 0.00,,,,,
Map Feature = MF ; Map Comment = MC These follow if they exist
Track File = TF These follow if they exist
Moving Map Parameters = MM? These follow if they exist
MM0,Yes
MMPNUM,4
MMPXY,1,104,100
MMPXY,2,3219,91
MMPXY,3,3258,2988
MMPXY,4,94,2998
MMPLL,1, 74.000000, 69.000000
MMPLL,2, 75.000000, 69.000000
MMPLL,3, 75.000000, 68.666667
MMPLL,4, 74.000000, 68.666667
MM1B,11.958630
MOP,Map Open Position,0,0
IWH,Map Image Width/Height,3350,3094
