OziExplorer Map Data File Version 2.2
200k--q57-31_32.gif
200k--q57-31_32.gif
1 ,Map Code,
Pulkovo 1942 (2),WGS 84, 0.0000, 0.0000,WGS 84
Reserved 1
Reserved 2
Magnetic Variation,,,E
Map Projection,Transverse Mercator,PolyCal,No,AutoCalOnly,No,BSBUseWPX,No
Point01,xy, 133, 83,in, deg, 64, 40.0000,N, 156, 0.0000,E, grid, , , ,N
Point02,xy, 1991, 100,in, deg, 64, 40.0000,N, 157, 0.0000,E, grid, , , ,N
Point03,xy, 3851, 85,in, deg, 64, 40.0000,N, 158, 0.0000,E, grid, , , ,N
Point04,xy, 109, 1528,in, deg, 64, 20.0000,N, 156, 0.0000,E, grid, , , ,N
Point05,xy, 1993, 1547,in, deg, 64, 20.0000,N, 157, 0.0000,E, grid, , , ,N
Point06,xy, 3874, 1530,in, deg, 64, 20.0000,N, 158, 0.0000,E, grid, , , ,N
Point07,xy, 85, 2974,in, deg, 64, 0.0000,N, 156, 0.0000,E, grid, , , ,N
Point08,xy, 1992, 2992,in, deg, 64, 0.0000,N, 157, 0.0000,E, grid, , , ,N
Point09,xy, 3897, 2976,in, deg, 64, 0.0000,N, 158, 0.0000,E, grid, , , ,N
Point10,xy, , ,in, deg, , ,N, , ,W, grid, , , ,N
Point11,xy, , ,in, deg, , ,N, , ,W, grid, , , ,N
Point12,xy, , ,in, deg, , ,N, , ,W, grid, , , ,N
Point13,xy, , ,in, deg, , ,N, , ,W, grid, , , ,N
Point14,xy, , ,in, deg, , ,N, , ,W, grid, , , ,N
Point15,xy, , ,in, deg, , ,N, , ,W, grid, , , ,N
Point16,xy, , ,in, deg, , ,N, , ,W, grid, , , ,N
Point17,xy, , ,in, deg, , ,N, , ,W, grid, , , ,N
Point18,xy, , ,in, deg, , ,N, , ,W, grid, , , ,N
Point19,xy, , ,in, deg, , ,N, , ,W, grid, , , ,N
Point20,xy, , ,in, deg, , ,N, , ,W, grid, , , ,N
Point21,xy, , ,in, deg, , ,N, , ,W, grid, , , ,N
Point22,xy, , ,in, deg, , ,N, , ,W, grid, , , ,N
Point23,xy, , ,in, deg, , ,N, , ,W, grid, , , ,N
Point24,xy, , ,in, deg, , ,N, , ,W, grid, , , ,N
Point25,xy, , ,in, deg, , ,N, , ,W, grid, , , ,N
Point26,xy, , ,in, deg, , ,N, , ,W, grid, , , ,N
Point27,xy, , ,in, deg, , ,N, , ,W, grid, , , ,N
Point28,xy, , ,in, deg, , ,N, , ,W, grid, , , ,N
Point29,xy, , ,in, deg, , ,N, , ,W, grid, , , ,N
Point30,xy, , ,in, deg, , ,N, , ,W, grid, , , ,N
Projection Setup, 0.000000000, 159.000000000, 1.000000000, 500000.00, 0.00,,,,,
Map Feature = MF ; Map Comment = MC These follow if they exist
Track File = TF These follow if they exist
Moving Map Parameters = MM? These follow if they exist
MM0,Yes
MMPNUM,4
MMPXY,1,133,83
MMPXY,2,3851,85
MMPXY,3,3897,2976
MMPXY,4,85,2974
MMPLL,1, 156.000000, 64.666667
MMPLL,2, 158.000000, 64.666667
MMPLL,3, 158.000000, 64.000000
MMPLL,4, 156.000000, 64.000000
MM1B,23.994812
MOP,Map Open Position,0,0
IWH,Map Image Width/Height,3986,3084
