OziExplorer Map Data File Version 2.2
200k--q57-15_16.gif
200k--q57-15_16.gif
1 ,Map Code,
Pulkovo 1942 (2),WGS 84, 0.0000, 0.0000,WGS 84
Reserved 1
Reserved 2
Magnetic Variation,,,E
Map Projection,Transverse Mercator,PolyCal,No,AutoCalOnly,No,BSBUseWPX,No
Point01,xy, 122, 93,in, deg, 66, 40.0000,N, 158, 0.0000,E, grid, , , ,N
Point02,xy, 1844, 101,in, deg, 66, 40.0000,N, 159, 0.0000,E, grid, , , ,N
Point03,xy, 3566, 82,in, deg, 66, 40.0000,N, 160, 0.0000,E, grid, , , ,N
Point04,xy, 104, 1541,in, deg, 66, 20.0000,N, 158, 0.0000,E, grid, , , ,N
Point05,xy, 1849, 1548,in, deg, 66, 20.0000,N, 159, 0.0000,E, grid, , , ,N
Point06,xy, 3594, 1529,in, deg, 66, 20.0000,N, 160, 0.0000,E, grid, , , ,N
Point07,xy, 86, 2986,in, deg, 66, 0.0000,N, 158, 0.0000,E, grid, , , ,N
Point08,xy, 1854, 2995,in, deg, 66, 0.0000,N, 159, 0.0000,E, grid, , , ,N
Point09,xy, 3623, 2973,in, deg, 66, 0.0000,N, 160, 0.0000,E, grid, , , ,N
Point10,xy, , ,in, deg, , ,N, , ,W, grid, , , ,N
Point11,xy, , ,in, deg, , ,N, , ,W, grid, , , ,N
Point12,xy, , ,in, deg, , ,N, , ,W, grid, , , ,N
Point13,xy, , ,in, deg, , ,N, , ,W, grid, , , ,N
Point14,xy, , ,in, deg, , ,N, , ,W, grid, , , ,N
Point15,xy, , ,in, deg, , ,N, , ,W, grid, , , ,N
Point16,xy, , ,in, deg, , ,N, , ,W, grid, , , ,N
Point17,xy, , ,in, deg, , ,N, , ,W, grid, , , ,N
Point18,xy, , ,in, deg, , ,N, , ,W, grid, , , ,N
Point19,xy, , ,in, deg, , ,N, , ,W, grid, , , ,N
Point20,xy, , ,in, deg, , ,N, , ,W, grid, , , ,N
Point21,xy, , ,in, deg, , ,N, , ,W, grid, , , ,N
Point22,xy, , ,in, deg, , ,N, , ,W, grid, , , ,N
Point23,xy, , ,in, deg, , ,N, , ,W, grid, , , ,N
Point24,xy, , ,in, deg, , ,N, , ,W, grid, , , ,N
Point25,xy, , ,in, deg, , ,N, , ,W, grid, , , ,N
Point26,xy, , ,in, deg, , ,N, , ,W, grid, , , ,N
Point27,xy, , ,in, deg, , ,N, , ,W, grid, , , ,N
Point28,xy, , ,in, deg, , ,N, , ,W, grid, , , ,N
Point29,xy, , ,in, deg, , ,N, , ,W, grid, , , ,N
Point30,xy, , ,in, deg, , ,N, , ,W, grid, , , ,N
Projection Setup, 0.000000000, 159.000000000, 1.000000000, 500000.00, 0.00,,,,,
Map Feature = MF ; Map Comment = MC These follow if they exist
Track File = TF These follow if they exist
Moving Map Parameters = MM? These follow if they exist
MM0,Yes
MMPNUM,4
MMPXY,1,122,93
MMPXY,2,3566,82
MMPXY,3,3623,2973
MMPXY,4,86,2986
MMPLL,1, 158.000000, 66.666667
MMPLL,2, 160.000000, 66.666667
MMPLL,3, 160.000000, 66.000000
MMPLL,4, 158.000000, 66.000000
MM1B,24.010383
MOP,Map Open Position,0,0
IWH,Map Image Width/Height,3714,3082
