OziExplorer Map Data File Version 2.2
200k--q57-09_10.gif
200k--q57-09_10.gif
1 ,Map Code,
Pulkovo 1942 (2),WGS 84, 0.0000, 0.0000,WGS 84
Reserved 1
Reserved 2
Magnetic Variation,,,E
Map Projection,Transverse Mercator,PolyCal,No,AutoCalOnly,No,BSBUseWPX,No
Point01,xy, 127, 82,in, deg, 67, 20.0000,N, 158, 0.0000,E, grid, , , ,N
Point02,xy, 1804, 96,in, deg, 67, 20.0000,N, 159, 0.0000,E, grid, , , ,N
Point03,xy, 3478, 83,in, deg, 67, 20.0000,N, 160, 0.0000,E, grid, , , ,N
Point04,xy, 105, 1525,in, deg, 67, 0.0000,N, 158, 0.0000,E, grid, , , ,N
Point05,xy, 1802, 1542,in, deg, 67, 0.0000,N, 159, 0.0000,E, grid, , , ,N
Point06,xy, 3502, 1523,in, deg, 67, 0.0000,N, 160, 0.0000,E, grid, , , ,N
Point07,xy, 82, 2974,in, deg, 66, 40.0000,N, 158, 0.0000,E, grid, , , ,N
Point08,xy, 1802, 2988,in, deg, 66, 40.0000,N, 159, 0.0000,E, grid, , , ,N
Point09,xy, 3525, 2973,in, deg, 66, 40.0000,N, 160, 0.0000,E, grid, , , ,N
Point10,xy, , ,in, deg, , ,N, , ,W, grid, , , ,N
Point11,xy, , ,in, deg, , ,N, , ,W, grid, , , ,N
Point12,xy, , ,in, deg, , ,N, , ,W, grid, , , ,N
Point13,xy, , ,in, deg, , ,N, , ,W, grid, , , ,N
Point14,xy, , ,in, deg, , ,N, , ,W, grid, , , ,N
Point15,xy, , ,in, deg, , ,N, , ,W, grid, , , ,N
Point16,xy, , ,in, deg, , ,N, , ,W, grid, , , ,N
Point17,xy, , ,in, deg, , ,N, , ,W, grid, , , ,N
Point18,xy, , ,in, deg, , ,N, , ,W, grid, , , ,N
Point19,xy, , ,in, deg, , ,N, , ,W, grid, , , ,N
Point20,xy, , ,in, deg, , ,N, , ,W, grid, , , ,N
Point21,xy, , ,in, deg, , ,N, , ,W, grid, , , ,N
Point22,xy, , ,in, deg, , ,N, , ,W, grid, , , ,N
Point23,xy, , ,in, deg, , ,N, , ,W, grid, , , ,N
Point24,xy, , ,in, deg, , ,N, , ,W, grid, , , ,N
Point25,xy, , ,in, deg, , ,N, , ,W, grid, , , ,N
Point26,xy, , ,in, deg, , ,N, , ,W, grid, , , ,N
Point27,xy, , ,in, deg, , ,N, , ,W, grid, , , ,N
Point28,xy, , ,in, deg, , ,N, , ,W, grid, , , ,N
Point29,xy, , ,in, deg, , ,N, , ,W, grid, , , ,N
Point30,xy, , ,in, deg, , ,N, , ,W, grid, , , ,N
Projection Setup, 0.000000000, 159.000000000, 1.000000000, 500000.00, 0.00,,,,,
Map Feature = MF ; Map Comment = MC These follow if they exist
Track File = TF These follow if they exist
Moving Map Parameters = MM? These follow if they exist
MM0,Yes
MMPNUM,4
MMPXY,1,127,82
MMPXY,2,3478,83
MMPXY,3,3525,2973
MMPXY,4,82,2974
MMPLL,1, 158.000000, 67.333333
MMPLL,2, 160.000000, 67.333333
MMPLL,3, 160.000000, 66.666667
MMPLL,4, 158.000000, 66.666667
MM1B,23.994812
MOP,Map Open Position,0,0
IWH,Map Image Width/Height,3614,3084
