OziExplorer Map Data File Version 2.2
500k--q41-3_4.gif
500k--q41-3_4.gif
1 ,Map Code,
Pulkovo 1942 (2),WGS 84, 0.0000, 0.0000,WGS 84
Reserved 1
Reserved 2
Magnetic Variation,,,E
Map Projection,Transverse Mercator,PolyCal,No,AutoCalOnly,No,BSBUseWPX,No
Point01,xy, 235, 67,in, deg, 66, 0.0000,N, 60, 0.0000,E, grid, , , ,N
Point02,xy, 2412, 122,in, deg, 66, 0.0000,N, 63, 0.0000,E, grid, , , ,N
Point03,xy, 4589, 71,in, deg, 66, 0.0000,N, 66, 0.0000,E, grid, , , ,N
Point04,xy, 149, 1849,in, deg, 65, 0.0000,N, 60, 0.0000,E, grid, , , ,N
Point05,xy, 2411, 1903,in, deg, 65, 0.0000,N, 63, 0.0000,E, grid, , , ,N
Point06,xy, 4673, 1853,in, deg, 65, 0.0000,N, 66, 0.0000,E, grid, , , ,N
Point07,xy, 64, 3632,in, deg, 64, 0.0000,N, 60, 0.0000,E, grid, , , ,N
Point08,xy, 2411, 3688,in, deg, 64, 0.0000,N, 63, 0.0000,E, grid, , , ,N
Point09,xy, 4759, 3634,in, deg, 64, 0.0000,N, 66, 0.0000,E, grid, , , ,N
Point10,xy, , ,in, deg, , ,N, , ,W, grid, , , ,N
Point11,xy, , ,in, deg, , ,N, , ,W, grid, , , ,N
Point12,xy, , ,in, deg, , ,N, , ,W, grid, , , ,N
Point13,xy, , ,in, deg, , ,N, , ,W, grid, , , ,N
Point14,xy, , ,in, deg, , ,N, , ,W, grid, , , ,N
Point15,xy, , ,in, deg, , ,N, , ,W, grid, , , ,N
Point16,xy, , ,in, deg, , ,N, , ,W, grid, , , ,N
Point17,xy, , ,in, deg, , ,N, , ,W, grid, , , ,N
Point18,xy, , ,in, deg, , ,N, , ,W, grid, , , ,N
Point19,xy, , ,in, deg, , ,N, , ,W, grid, , , ,N
Point20,xy, , ,in, deg, , ,N, , ,W, grid, , , ,N
Point21,xy, , ,in, deg, , ,N, , ,W, grid, , , ,N
Point22,xy, , ,in, deg, , ,N, , ,W, grid, , , ,N
Point23,xy, , ,in, deg, , ,N, , ,W, grid, , , ,N
Point24,xy, , ,in, deg, , ,N, , ,W, grid, , , ,N
Point25,xy, , ,in, deg, , ,N, , ,W, grid, , , ,N
Point26,xy, , ,in, deg, , ,N, , ,W, grid, , , ,N
Point27,xy, , ,in, deg, , ,N, , ,W, grid, , , ,N
Point28,xy, , ,in, deg, , ,N, , ,W, grid, , , ,N
Point29,xy, , ,in, deg, , ,N, , ,W, grid, , , ,N
Point30,xy, , ,in, deg, , ,N, , ,W, grid, , , ,N
Projection Setup, 0.000000000, 63.000000000, 1.000000000, 500000.00, 0.00,,,,,
Map Feature = MF ; Map Comment = MC These follow if they exist
Track File = TF These follow if they exist
Moving Map Parameters = MM? These follow if they exist
MM0,Yes
MMPNUM,4
MMPXY,1,235,67
MMPXY,2,4589,71
MMPXY,3,4759,3634
MMPXY,4,64,3632
MMPLL,1, 60.000000, 66.000000
MMPLL,2, 66.000000, 66.000000
MMPLL,3, 66.000000, 64.000000
MMPLL,4, 60.000000, 64.000000
MM1B,59.152678
MOP,Map Open Position,0,0
IWH,Map Image Width/Height,4828,3753
