OziExplorer Map Data File Version 2.2
200k--q41-21_22.gif
200k--q41-21_22.gif
1 ,Map Code,
Pulkovo 1942 (2),WGS 84, 0.0000, 0.0000,WGS 84
Reserved 1
Reserved 2
Magnetic Variation,,,E
Map Projection,Transverse Mercator,PolyCal,No,AutoCalOnly,No,BSBUseWPX,No
Point01,xy, 131, 93,in, deg, 66, 0.0000,N, 62, 0.0000,E, grid, , , ,N
Point02,xy, 1901, 107,in, deg, 66, 0.0000,N, 63, 0.0000,E, grid, , , ,N
Point03,xy, 3669, 88,in, deg, 66, 0.0000,N, 64, 0.0000,E, grid, , , ,N
Point04,xy, 110, 1540,in, deg, 65, 40.0000,N, 62, 0.0000,E, grid, , , ,N
Point05,xy, 1903, 1553,in, deg, 65, 40.0000,N, 63, 0.0000,E, grid, , , ,N
Point06,xy, 3693, 1536,in, deg, 65, 40.0000,N, 64, 0.0000,E, grid, , , ,N
Point07,xy, 86, 2987,in, deg, 65, 20.0000,N, 62, 0.0000,E, grid, , , ,N
Point08,xy, 1904, 3001,in, deg, 65, 20.0000,N, 63, 0.0000,E, grid, , , ,N
Point09,xy, 3718, 2985,in, deg, 65, 20.0000,N, 64, 0.0000,E, grid, , , ,N
Point10,xy, , ,in, deg, , ,N, , ,W, grid, , , ,N
Point11,xy, , ,in, deg, , ,N, , ,W, grid, , , ,N
Point12,xy, , ,in, deg, , ,N, , ,W, grid, , , ,N
Point13,xy, , ,in, deg, , ,N, , ,W, grid, , , ,N
Point14,xy, , ,in, deg, , ,N, , ,W, grid, , , ,N
Point15,xy, , ,in, deg, , ,N, , ,W, grid, , , ,N
Point16,xy, , ,in, deg, , ,N, , ,W, grid, , , ,N
Point17,xy, , ,in, deg, , ,N, , ,W, grid, , , ,N
Point18,xy, , ,in, deg, , ,N, , ,W, grid, , , ,N
Point19,xy, , ,in, deg, , ,N, , ,W, grid, , , ,N
Point20,xy, , ,in, deg, , ,N, , ,W, grid, , , ,N
Point21,xy, , ,in, deg, , ,N, , ,W, grid, , , ,N
Point22,xy, , ,in, deg, , ,N, , ,W, grid, , , ,N
Point23,xy, , ,in, deg, , ,N, , ,W, grid, , , ,N
Point24,xy, , ,in, deg, , ,N, , ,W, grid, , , ,N
Point25,xy, , ,in, deg, , ,N, , ,W, grid, , , ,N
Point26,xy, , ,in, deg, , ,N, , ,W, grid, , , ,N
Point27,xy, , ,in, deg, , ,N, , ,W, grid, , , ,N
Point28,xy, , ,in, deg, , ,N, , ,W, grid, , , ,N
Point29,xy, , ,in, deg, , ,N, , ,W, grid, , , ,N
Point30,xy, , ,in, deg, , ,N, , ,W, grid, , , ,N
Projection Setup, 0.000000000, 63.000000000, 1.000000000, 500000.00, 0.00,,,,,
Map Feature = MF ; Map Comment = MC These follow if they exist
Track File = TF These follow if they exist
Moving Map Parameters = MM? These follow if they exist
MM0,Yes
MMPNUM,4
MMPXY,1,131,93
MMPXY,2,3669,88
MMPXY,3,3718,2985
MMPXY,4,86,2987
MMPLL,1, 62.000000, 66.000000
MMPLL,2, 64.000000, 66.000000
MMPLL,3, 64.000000, 65.333333
MMPLL,4, 62.000000, 65.333333
MM1B,24.025974
MOP,Map Open Position,0,0
IWH,Map Image Width/Height,3800,3080
