OziExplorer Map Data File Version 2.2
100k--q41-135_136.gif
100k--q41-135_136.gif
1 ,Map Code,
Pulkovo 1942 (2),WGS 84, 0.0000, 0.0000,WGS 84
Reserved 1
Reserved 2
Magnetic Variation,,,E
Map Projection,Transverse Mercator,PolyCal,No,AutoCalOnly,No,BSBUseWPX,No
Point01,xy, 131, 87,in, deg, 64, 20.0000,N, 61, 0.0000,E, grid, , , ,N
Point02,xy, 2012, 100,in, deg, 64, 20.0000,N, 61, 30.0000,E, grid, , , ,N
Point03,xy, 3891, 96,in, deg, 64, 20.0000,N, 62, 0.0000,E, grid, , , ,N
Point04,xy, 116, 1545,in, deg, 64, 10.0000,N, 61, 0.0000,E, grid, , , ,N
Point05,xy, 2010, 1561,in, deg, 64, 10.0000,N, 61, 30.0000,E, grid, , , ,N
Point06,xy, 3903, 1556,in, deg, 64, 10.0000,N, 62, 0.0000,E, grid, , , ,N
Point07,xy, 102, 3003,in, deg, 64, 0.0000,N, 61, 0.0000,E, grid, , , ,N
Point08,xy, 2008, 3019,in, deg, 64, 0.0000,N, 61, 30.0000,E, grid, , , ,N
Point09,xy, 3912, 3016,in, deg, 64, 0.0000,N, 62, 0.0000,E, grid, , , ,N
Point10,xy, , ,in, deg, , ,N, , ,W, grid, , , ,N
Point11,xy, , ,in, deg, , ,N, , ,W, grid, , , ,N
Point12,xy, , ,in, deg, , ,N, , ,W, grid, , , ,N
Point13,xy, , ,in, deg, , ,N, , ,W, grid, , , ,N
Point14,xy, , ,in, deg, , ,N, , ,W, grid, , , ,N
Point15,xy, , ,in, deg, , ,N, , ,W, grid, , , ,N
Point16,xy, , ,in, deg, , ,N, , ,W, grid, , , ,N
Point17,xy, , ,in, deg, , ,N, , ,W, grid, , , ,N
Point18,xy, , ,in, deg, , ,N, , ,W, grid, , , ,N
Point19,xy, , ,in, deg, , ,N, , ,W, grid, , , ,N
Point20,xy, , ,in, deg, , ,N, , ,W, grid, , , ,N
Point21,xy, , ,in, deg, , ,N, , ,W, grid, , , ,N
Point22,xy, , ,in, deg, , ,N, , ,W, grid, , , ,N
Point23,xy, , ,in, deg, , ,N, , ,W, grid, , , ,N
Point24,xy, , ,in, deg, , ,N, , ,W, grid, , , ,N
Point25,xy, , ,in, deg, , ,N, , ,W, grid, , , ,N
Point26,xy, , ,in, deg, , ,N, , ,W, grid, , , ,N
Point27,xy, , ,in, deg, , ,N, , ,W, grid, , , ,N
Point28,xy, , ,in, deg, , ,N, , ,W, grid, , , ,N
Point29,xy, , ,in, deg, , ,N, , ,W, grid, , , ,N
Point30,xy, , ,in, deg, , ,N, , ,W, grid, , , ,N
Projection Setup, 0.000000000, 63.000000000, 1.000000000, 500000.00, 0.00,,,,,
Map Feature = MF ; Map Comment = MC These follow if they exist
Track File = TF These follow if they exist
Moving Map Parameters = MM? These follow if they exist
MM0,Yes
MMPNUM,4
MMPXY,1,131,87
MMPXY,2,3891,96
MMPXY,3,3912,3016
MMPXY,4,102,3003
MMPLL,1, 61.000000, 64.333333
MMPLL,2, 62.000000, 64.333333
MMPLL,3, 62.000000, 64.000000
MMPLL,4, 61.000000, 64.000000
MM1B,11.939335
MOP,Map Open Position,0,0
IWH,Map Image Width/Height,4007,3099
