OziExplorer Map Data File Version 2.2
100k--q41-133_134.gif
100k--q41-133_134.gif
1 ,Map Code,
Pulkovo 1942 (2),WGS 84, 0.0000, 0.0000,WGS 84
Reserved 1
Reserved 2
Magnetic Variation,,,E
Map Projection,Transverse Mercator,PolyCal,No,AutoCalOnly,No,BSBUseWPX,No
Point01,xy, 136, 85,in, deg, 64, 20.0000,N, 60, 0.0000,E, grid, , , ,N
Point02,xy, 2021, 103,in, deg, 64, 20.0000,N, 60, 30.0000,E, grid, , , ,N
Point03,xy, 3907, 104,in, deg, 64, 20.0000,N, 61, 0.0000,E, grid, , , ,N
Point04,xy, 117, 1544,in, deg, 64, 10.0000,N, 60, 0.0000,E, grid, , , ,N
Point05,xy, 2016, 1561,in, deg, 64, 10.0000,N, 60, 30.0000,E, grid, , , ,N
Point06,xy, 3913, 1561,in, deg, 64, 10.0000,N, 61, 0.0000,E, grid, , , ,N
Point07,xy, 99, 3002,in, deg, 64, 0.0000,N, 60, 0.0000,E, grid, , , ,N
Point08,xy, 2006, 3021,in, deg, 64, 0.0000,N, 60, 30.0000,E, grid, , , ,N
Point09,xy, 3916, 3022,in, deg, 64, 0.0000,N, 61, 0.0000,E, grid, , , ,N
Point10,xy, , ,in, deg, , ,N, , ,W, grid, , , ,N
Point11,xy, , ,in, deg, , ,N, , ,W, grid, , , ,N
Point12,xy, , ,in, deg, , ,N, , ,W, grid, , , ,N
Point13,xy, , ,in, deg, , ,N, , ,W, grid, , , ,N
Point14,xy, , ,in, deg, , ,N, , ,W, grid, , , ,N
Point15,xy, , ,in, deg, , ,N, , ,W, grid, , , ,N
Point16,xy, , ,in, deg, , ,N, , ,W, grid, , , ,N
Point17,xy, , ,in, deg, , ,N, , ,W, grid, , , ,N
Point18,xy, , ,in, deg, , ,N, , ,W, grid, , , ,N
Point19,xy, , ,in, deg, , ,N, , ,W, grid, , , ,N
Point20,xy, , ,in, deg, , ,N, , ,W, grid, , , ,N
Point21,xy, , ,in, deg, , ,N, , ,W, grid, , , ,N
Point22,xy, , ,in, deg, , ,N, , ,W, grid, , , ,N
Point23,xy, , ,in, deg, , ,N, , ,W, grid, , , ,N
Point24,xy, , ,in, deg, , ,N, , ,W, grid, , , ,N
Point25,xy, , ,in, deg, , ,N, , ,W, grid, , , ,N
Point26,xy, , ,in, deg, , ,N, , ,W, grid, , , ,N
Point27,xy, , ,in, deg, , ,N, , ,W, grid, , , ,N
Point28,xy, , ,in, deg, , ,N, , ,W, grid, , , ,N
Point29,xy, , ,in, deg, , ,N, , ,W, grid, , , ,N
Point30,xy, , ,in, deg, , ,N, , ,W, grid, , , ,N
Projection Setup, 0.000000000, 63.000000000, 1.000000000, 500000.00, 0.00,,,,,
Map Feature = MF ; Map Comment = MC These follow if they exist
Track File = TF These follow if they exist
Moving Map Parameters = MM? These follow if they exist
MM0,Yes
MMPNUM,4
MMPXY,1,136,85
MMPXY,2,3907,104
MMPXY,3,3916,3022
MMPXY,4,99,3002
MMPLL,1, 60.000000, 64.333333
MMPLL,2, 61.000000, 64.333333
MMPLL,3, 61.000000, 64.000000
MMPLL,4, 60.000000, 64.000000
MM1B,11.889460
MOP,Map Open Position,0,0
IWH,Map Image Width/Height,4015,3112
