OziExplorer Map Data File Version 2.2
100k--q41-119_120.gif
100k--q41-119_120.gif
1 ,Map Code,
Pulkovo 1942 (2),WGS 84, 0.0000, 0.0000,WGS 84
Reserved 1
Reserved 2
Magnetic Variation,,,E
Map Projection,Transverse Mercator,PolyCal,No,AutoCalOnly,No,BSBUseWPX,No
Point01,xy, 107, 91,in, deg, 65, 0.0000,N, 65, 0.0000,E, grid, , , ,N
Point02,xy, 1941, 97,in, deg, 65, 0.0000,N, 65, 30.0000,E, grid, , , ,N
Point03,xy, 3774, 92,in, deg, 65, 0.0000,N, 66, 0.0000,E, grid, , , ,N
Point04,xy, 95, 1560,ex, deg, 64, 50.0000,N, 65, 0.0000,E, grid, , , ,N
Point05,xy, 1881, 1503,ex, deg, 64, 50.0000,N, 65, 30.0000,E, grid, , , ,N
Point06,xy, 3782, 1532,ex, deg, 64, 50.0000,N, 66, 0.0000,E, grid, , , ,N
Point07,xy, 83, 3006,in, deg, 64, 40.0000,N, 65, 0.0000,E, grid, , , ,N
Point08,xy, 1942, 3012,in, deg, 64, 40.0000,N, 65, 30.0000,E, grid, , , ,N
Point09,xy, 3797, 3006,in, deg, 64, 40.0000,N, 66, 0.0000,E, grid, , , ,N
Point10,xy, , ,in, deg, , ,N, , ,W, grid, , , ,N
Point11,xy, , ,in, deg, , ,N, , ,W, grid, , , ,N
Point12,xy, , ,in, deg, , ,N, , ,W, grid, , , ,N
Point13,xy, , ,in, deg, , ,N, , ,W, grid, , , ,N
Point14,xy, , ,in, deg, , ,N, , ,W, grid, , , ,N
Point15,xy, , ,in, deg, , ,N, , ,W, grid, , , ,N
Point16,xy, , ,in, deg, , ,N, , ,W, grid, , , ,N
Point17,xy, , ,in, deg, , ,N, , ,W, grid, , , ,N
Point18,xy, , ,in, deg, , ,N, , ,W, grid, , , ,N
Point19,xy, , ,in, deg, , ,N, , ,W, grid, , , ,N
Point20,xy, , ,in, deg, , ,N, , ,W, grid, , , ,N
Point21,xy, , ,in, deg, , ,N, , ,W, grid, , , ,N
Point22,xy, , ,in, deg, , ,N, , ,W, grid, , , ,N
Point23,xy, , ,in, deg, , ,N, , ,W, grid, , , ,N
Point24,xy, , ,in, deg, , ,N, , ,W, grid, , , ,N
Point25,xy, , ,in, deg, , ,N, , ,W, grid, , , ,N
Point26,xy, , ,in, deg, , ,N, , ,W, grid, , , ,N
Point27,xy, , ,in, deg, , ,N, , ,W, grid, , , ,N
Point28,xy, , ,in, deg, , ,N, , ,W, grid, , , ,N
Point29,xy, , ,in, deg, , ,N, , ,W, grid, , , ,N
Point30,xy, , ,in, deg, , ,N, , ,W, grid, , , ,N
Projection Setup, 0.000000000, 63.000000000, 1.000000000, 500000.00, 0.00,,,,,
Map Feature = MF ; Map Comment = MC These follow if they exist
Track File = TF These follow if they exist
Moving Map Parameters = MM? These follow if they exist
MM0,Yes
MMPNUM,4
MMPXY,1,107,91
MMPXY,2,3774,92
MMPXY,3,3797,3006
MMPXY,4,83,3006
MMPLL,1, 65.000000, 65.000000
MMPLL,2, 66.000000, 65.000000
MMPLL,3, 66.000000, 64.666667
MMPLL,4, 65.000000, 64.666667
MM1B,11.920103
MOP,Map Open Position,0,0
IWH,Map Image Width/Height,3886,3104
