OziExplorer Map Data File Version 2.2
100k--q41-109_110.gif
100k--q41-109_110.gif
1 ,Map Code,
Pulkovo 1942 (2),WGS 84, 0.0000, 0.0000,WGS 84
Reserved 1
Reserved 2
Magnetic Variation,,,E
Map Projection,Transverse Mercator,PolyCal,No,AutoCalOnly,No,BSBUseWPX,No
Point01,xy, 88, 94,in, deg, 65, 0.0000,N, 60, 0.0000,E, grid, , , ,N
Point02,xy, 1682, 96,in, deg, 65, 0.0000,N, 60, 30.0000,E, grid, , , ,N
Point03,xy, 3274, 82,in, deg, 65, 0.0000,N, 61, 0.0000,E, grid, , , ,N
Point04,xy, 87, 1362,in, deg, 64, 50.0000,N, 60, 0.0000,E, grid, , , ,N
Point05,xy, 1692, 1364,in, deg, 64, 50.0000,N, 60, 30.0000,E, grid, , , ,N
Point06,xy, 3296, 1350,in, deg, 64, 50.0000,N, 61, 0.0000,E, grid, , , ,N
Point07,xy, 89, 2634,in, deg, 64, 40.0000,N, 60, 0.0000,E, grid, , , ,N
Point08,xy, 1703, 2630,in, deg, 64, 40.0000,N, 60, 30.0000,E, grid, , , ,N
Point09,xy, 3316, 2622,in, deg, 64, 40.0000,N, 61, 0.0000,E, grid, , , ,N
Point10,xy, , ,in, deg, , ,N, , ,W, grid, , , ,N
Point11,xy, , ,in, deg, , ,N, , ,W, grid, , , ,N
Point12,xy, , ,in, deg, , ,N, , ,W, grid, , , ,N
Point13,xy, , ,in, deg, , ,N, , ,W, grid, , , ,N
Point14,xy, , ,in, deg, , ,N, , ,W, grid, , , ,N
Point15,xy, , ,in, deg, , ,N, , ,W, grid, , , ,N
Point16,xy, , ,in, deg, , ,N, , ,W, grid, , , ,N
Point17,xy, , ,in, deg, , ,N, , ,W, grid, , , ,N
Point18,xy, , ,in, deg, , ,N, , ,W, grid, , , ,N
Point19,xy, , ,in, deg, , ,N, , ,W, grid, , , ,N
Point20,xy, , ,in, deg, , ,N, , ,W, grid, , , ,N
Point21,xy, , ,in, deg, , ,N, , ,W, grid, , , ,N
Point22,xy, , ,in, deg, , ,N, , ,W, grid, , , ,N
Point23,xy, , ,in, deg, , ,N, , ,W, grid, , , ,N
Point24,xy, , ,in, deg, , ,N, , ,W, grid, , , ,N
Point25,xy, , ,in, deg, , ,N, , ,W, grid, , , ,N
Point26,xy, , ,in, deg, , ,N, , ,W, grid, , , ,N
Point27,xy, , ,in, deg, , ,N, , ,W, grid, , , ,N
Point28,xy, , ,in, deg, , ,N, , ,W, grid, , , ,N
Point29,xy, , ,in, deg, , ,N, , ,W, grid, , , ,N
Point30,xy, , ,in, deg, , ,N, , ,W, grid, , , ,N
Projection Setup, 0.000000000, 63.000000000, 1.000000000, 500000.00, 0.00,,,,,
Map Feature = MF ; Map Comment = MC These follow if they exist
Track File = TF These follow if they exist
Moving Map Parameters = MM? These follow if they exist
MM0,Yes
MMPNUM,4
MMPXY,1,88,94
MMPXY,2,3274,82
MMPXY,3,3316,2622
MMPXY,4,89,2634
MMPLL,1, 60.000000, 65.000000
MMPLL,2, 61.000000, 65.000000
MMPLL,3, 61.000000, 64.666667
MMPLL,4, 60.000000, 64.666667
MM1B,13.648100
MOP,Map Open Position,0,0
IWH,Map Image Width/Height,3398,2711
