OziExplorer Map Data File Version 2.2
100k--q41-057_058.gif
100k--q41-057_058.gif
1 ,Map Code,
Pulkovo 1942 (2),WGS 84, 0.0000, 0.0000,WGS 84
Reserved 1
Reserved 2
Magnetic Variation,,,E
Map Projection,Transverse Mercator,PolyCal,No,AutoCalOnly,No,BSBUseWPX,No
Point01,xy, 109, 69,in, deg, 66, 40.0000,N, 64, 0.0000,E, grid, , , ,N
Point02,xy, 1830, 77,in, deg, 66, 40.0000,N, 64, 30.0000,E, grid, , , ,N
Point03,xy, 3551, 64,in, deg, 66, 40.0000,N, 65, 0.0000,E, grid, , , ,N
Point04,xy, 99, 1528,ex, deg, 66, 30.0000,N, 64, 0.0000,E, grid, , , ,N
Point05,xy, 1773, 1491,ex, deg, 66, 30.0000,N, 64, 30.0000,E, grid, , , ,N
Point06,xy, 3566, 1535,ex, deg, 66, 30.0000,N, 65, 0.0000,E, grid, , , ,N
Point07,xy, 88, 2988,in, deg, 66, 20.0000,N, 64, 0.0000,E, grid, , , ,N
Point08,xy, 1835, 2991,in, deg, 66, 20.0000,N, 64, 30.0000,E, grid, , , ,N
Point09,xy, 3580, 2986,in, deg, 66, 20.0000,N, 65, 0.0000,E, grid, , , ,N
Point10,xy, , ,in, deg, , ,N, , ,W, grid, , , ,N
Point11,xy, , ,in, deg, , ,N, , ,W, grid, , , ,N
Point12,xy, , ,in, deg, , ,N, , ,W, grid, , , ,N
Point13,xy, , ,in, deg, , ,N, , ,W, grid, , , ,N
Point14,xy, , ,in, deg, , ,N, , ,W, grid, , , ,N
Point15,xy, , ,in, deg, , ,N, , ,W, grid, , , ,N
Point16,xy, , ,in, deg, , ,N, , ,W, grid, , , ,N
Point17,xy, , ,in, deg, , ,N, , ,W, grid, , , ,N
Point18,xy, , ,in, deg, , ,N, , ,W, grid, , , ,N
Point19,xy, , ,in, deg, , ,N, , ,W, grid, , , ,N
Point20,xy, , ,in, deg, , ,N, , ,W, grid, , , ,N
Point21,xy, , ,in, deg, , ,N, , ,W, grid, , , ,N
Point22,xy, , ,in, deg, , ,N, , ,W, grid, , , ,N
Point23,xy, , ,in, deg, , ,N, , ,W, grid, , , ,N
Point24,xy, , ,in, deg, , ,N, , ,W, grid, , , ,N
Point25,xy, , ,in, deg, , ,N, , ,W, grid, , , ,N
Point26,xy, , ,in, deg, , ,N, , ,W, grid, , , ,N
Point27,xy, , ,in, deg, , ,N, , ,W, grid, , , ,N
Point28,xy, , ,in, deg, , ,N, , ,W, grid, , , ,N
Point29,xy, , ,in, deg, , ,N, , ,W, grid, , , ,N
Point30,xy, , ,in, deg, , ,N, , ,W, grid, , , ,N
Projection Setup, 0.000000000, 63.000000000, 1.000000000, 500000.00, 0.00,,,,,
Map Feature = MF ; Map Comment = MC These follow if they exist
Track File = TF These follow if they exist
Moving Map Parameters = MM? These follow if they exist
MM0,Yes
MMPNUM,4
MMPXY,1,109,69
MMPXY,2,3551,64
MMPXY,3,3580,2986
MMPXY,4,88,2988
MMPLL,1, 64.000000, 66.666667
MMPLL,2, 65.000000, 66.666667
MMPLL,3, 65.000000, 66.333333
MMPLL,4, 64.000000, 66.333333
MM1B,12.012987
MOP,Map Open Position,0,0
IWH,Map Image Width/Height,3662,3080
