OziExplorer Map Data File Version 2.2
001m--q41_42.gif
001m--q41_42.gif
1 ,Map Code,
Pulkovo 1942 (2),WGS 84, 0.0000, 0.0000,WGS 84
Reserved 1
Reserved 2
Magnetic Variation,,,E
Map Projection,Transverse Mercator,PolyCal,No,AutoCalOnly,No,BSBUseWPX,No
Point01,xy, 413, 118,in, deg, 68, 0.0000,N, 60, 0.0000,E, grid, , , ,N
Point02,xy, 2381, 209,in, deg, 68, 0.0000,N, 66, 0.0000,E, grid, , , ,N
Point03,xy, 4352, 106,in, deg, 68, 0.0000,N, 72, 0.0000,E, grid, , , ,N
Point04,xy, 249, 1866,in, deg, 66, 0.0000,N, 60, 0.0000,E, grid, , , ,N
Point05,xy, 2387, 1962,in, deg, 66, 0.0000,N, 66, 0.0000,E, grid, , , ,N
Point06,xy, 4524, 1850,in, deg, 66, 0.0000,N, 72, 0.0000,E, grid, , , ,N
Point07,xy, 86, 3609,in, deg, 64, 0.0000,N, 60, 0.0000,E, grid, , , ,N
Point08,xy, 2391, 3712,in, deg, 64, 0.0000,N, 66, 0.0000,E, grid, , , ,N
Point09,xy, 4693, 3595,in, deg, 64, 0.0000,N, 72, 0.0000,E, grid, , , ,N
Point10,xy, , ,in, deg, , ,N, , ,W, grid, , , ,N
Point11,xy, , ,in, deg, , ,N, , ,W, grid, , , ,N
Point12,xy, , ,in, deg, , ,N, , ,W, grid, , , ,N
Point13,xy, , ,in, deg, , ,N, , ,W, grid, , , ,N
Point14,xy, , ,in, deg, , ,N, , ,W, grid, , , ,N
Point15,xy, , ,in, deg, , ,N, , ,W, grid, , , ,N
Point16,xy, , ,in, deg, , ,N, , ,W, grid, , , ,N
Point17,xy, , ,in, deg, , ,N, , ,W, grid, , , ,N
Point18,xy, , ,in, deg, , ,N, , ,W, grid, , , ,N
Point19,xy, , ,in, deg, , ,N, , ,W, grid, , , ,N
Point20,xy, , ,in, deg, , ,N, , ,W, grid, , , ,N
Point21,xy, , ,in, deg, , ,N, , ,W, grid, , , ,N
Point22,xy, , ,in, deg, , ,N, , ,W, grid, , , ,N
Point23,xy, , ,in, deg, , ,N, , ,W, grid, , , ,N
Point24,xy, , ,in, deg, , ,N, , ,W, grid, , , ,N
Point25,xy, , ,in, deg, , ,N, , ,W, grid, , , ,N
Point26,xy, , ,in, deg, , ,N, , ,W, grid, , , ,N
Point27,xy, , ,in, deg, , ,N, , ,W, grid, , , ,N
Point28,xy, , ,in, deg, , ,N, , ,W, grid, , , ,N
Point29,xy, , ,in, deg, , ,N, , ,W, grid, , , ,N
Point30,xy, , ,in, deg, , ,N, , ,W, grid, , , ,N
Projection Setup, 0.000000000, 63.000000000, 1.000000000, 500000.00, 0.00,,,,,
Map Feature = MF ; Map Comment = MC These follow if they exist
Track File = TF These follow if they exist
Moving Map Parameters = MM? These follow if they exist
MM0,Yes
MMPNUM,4
MMPXY,1,413,118
MMPXY,2,4352,106
MMPXY,3,4693,3595
MMPXY,4,86,3609
MMPLL,1, 60.000000, 68.000000
MMPLL,2, 72.000000, 68.000000
MMPLL,3, 72.000000, 64.000000
MMPLL,4, 60.000000, 64.000000
MM1B,117.026885
MOP,Map Open Position,0,0
IWH,Map Image Width/Height,4766,3794
