OziExplorer Map Data File Version 2.2
200k--q36-35_36.gif
200k--q36-35_36.gif
1 ,Map Code,
Pulkovo 1942 (2),WGS 84, 0.0000, 0.0000,WGS 84
Reserved 1
Reserved 2
Magnetic Variation,,,E
Map Projection,Transverse Mercator,PolyCal,No,AutoCalOnly,No,BSBUseWPX,No
Point01,xy, 71, 91,in, deg, 64, 40.0000,N, 34, 0.0000,E, grid, , , ,N
Point02,xy, 1923, 94,in, deg, 64, 40.0000,N, 35, 0.0000,E, grid, , , ,N
Point03,xy, 3772, 61,in, deg, 64, 40.0000,N, 36, 0.0000,E, grid, , , ,N
Point04,xy, 57, 1534,in, deg, 64, 20.0000,N, 34, 0.0000,E, grid, , , ,N
Point05,xy, 1930, 1533,in, deg, 64, 20.0000,N, 35, 0.0000,E, grid, , , ,N
Point06,xy, 3804, 1498,in, deg, 64, 20.0000,N, 36, 0.0000,E, grid, , , ,N
Point07,xy, 44, 2971,in, deg, 64, 0.0000,N, 34, 0.0000,E, grid, , , ,N
Point08,xy, 1937, 2971,in, deg, 64, 0.0000,N, 35, 0.0000,E, grid, , , ,N
Point09,xy, 3835, 2941,in, deg, 64, 0.0000,N, 36, 0.0000,E, grid, , , ,N
Point10,xy, , ,in, deg, , ,N, , ,W, grid, , , ,N
Point11,xy, , ,in, deg, , ,N, , ,W, grid, , , ,N
Point12,xy, , ,in, deg, , ,N, , ,W, grid, , , ,N
Point13,xy, , ,in, deg, , ,N, , ,W, grid, , , ,N
Point14,xy, , ,in, deg, , ,N, , ,W, grid, , , ,N
Point15,xy, , ,in, deg, , ,N, , ,W, grid, , , ,N
Point16,xy, , ,in, deg, , ,N, , ,W, grid, , , ,N
Point17,xy, , ,in, deg, , ,N, , ,W, grid, , , ,N
Point18,xy, , ,in, deg, , ,N, , ,W, grid, , , ,N
Point19,xy, , ,in, deg, , ,N, , ,W, grid, , , ,N
Point20,xy, , ,in, deg, , ,N, , ,W, grid, , , ,N
Point21,xy, , ,in, deg, , ,N, , ,W, grid, , , ,N
Point22,xy, , ,in, deg, , ,N, , ,W, grid, , , ,N
Point23,xy, , ,in, deg, , ,N, , ,W, grid, , , ,N
Point24,xy, , ,in, deg, , ,N, , ,W, grid, , , ,N
Point25,xy, , ,in, deg, , ,N, , ,W, grid, , , ,N
Point26,xy, , ,in, deg, , ,N, , ,W, grid, , , ,N
Point27,xy, , ,in, deg, , ,N, , ,W, grid, , , ,N
Point28,xy, , ,in, deg, , ,N, , ,W, grid, , , ,N
Point29,xy, , ,in, deg, , ,N, , ,W, grid, , , ,N
Point30,xy, , ,in, deg, , ,N, , ,W, grid, , , ,N
Projection Setup, 0.000000000, 33.000000000, 1.000000000, 500000.00, 0.00,,,,,
Map Feature = MF ; Map Comment = MC These follow if they exist
Track File = TF These follow if they exist
Moving Map Parameters = MM? These follow if they exist
MM0,Yes
MMPNUM,4
MMPXY,1,71,91
MMPXY,2,3772,61
MMPXY,3,3835,2941
MMPXY,4,44,2971
MMPLL,1, 34.000000, 64.666667
MMPLL,2, 36.000000, 64.666667
MMPLL,3, 36.000000, 64.000000
MMPLL,4, 34.000000, 64.000000
MM1B,24.406332
MOP,Map Open Position,0,0
IWH,Map Image Width/Height,3891,3032
