OziExplorer Map Data File Version 2.2
200k--p40-03_04.gif
200k--p40-03_04.gif
1 ,Map Code,
Pulkovo 1942 (2),WGS 84, 0.0000, 0.0000,WGS 84
Reserved 1
Reserved 2
Magnetic Variation,,,E
Map Projection,Transverse Mercator,PolyCal,No,AutoCalOnly,No,BSBUseWPX,No
Point01,xy, 100, 77,in, deg, 64, 0.0000,N, 56, 0.0000,E, grid, , , ,N
Point02,xy, 2003, 93,in, deg, 64, 0.0000,N, 57, 0.0000,E, grid, , , ,N
Point03,xy, 3907, 77,in, deg, 64, 0.0000,N, 58, 0.0000,E, grid, , , ,N
Point04,xy, 75, 1527,in, deg, 63, 40.0000,N, 56, 0.0000,E, grid, , , ,N
Point05,xy, 1982, 1531,ex, deg, 63, 40.0000,N, 57, 0.0000,E, grid, , , ,N
Point06,xy, 3932, 1524,in, deg, 63, 40.0000,N, 58, 0.0000,E, grid, , , ,N
Point07,xy, 53, 2976,in, deg, 63, 20.0000,N, 56, 0.0000,E, grid, , , ,N
Point08,xy, 2005, 2990,in, deg, 63, 20.0000,N, 57, 0.0000,E, grid, , , ,N
Point09,xy, 3956, 2973,in, deg, 63, 20.0000,N, 58, 0.0000,E, grid, , , ,N
Point10,xy, , ,in, deg, , ,N, , ,W, grid, , , ,N
Point11,xy, , ,in, deg, , ,N, , ,W, grid, , , ,N
Point12,xy, , ,in, deg, , ,N, , ,W, grid, , , ,N
Point13,xy, , ,in, deg, , ,N, , ,W, grid, , , ,N
Point14,xy, , ,in, deg, , ,N, , ,W, grid, , , ,N
Point15,xy, , ,in, deg, , ,N, , ,W, grid, , , ,N
Point16,xy, , ,in, deg, , ,N, , ,W, grid, , , ,N
Point17,xy, , ,in, deg, , ,N, , ,W, grid, , , ,N
Point18,xy, , ,in, deg, , ,N, , ,W, grid, , , ,N
Point19,xy, , ,in, deg, , ,N, , ,W, grid, , , ,N
Point20,xy, , ,in, deg, , ,N, , ,W, grid, , , ,N
Point21,xy, , ,in, deg, , ,N, , ,W, grid, , , ,N
Point22,xy, , ,in, deg, , ,N, , ,W, grid, , , ,N
Point23,xy, , ,in, deg, , ,N, , ,W, grid, , , ,N
Point24,xy, , ,in, deg, , ,N, , ,W, grid, , , ,N
Point25,xy, , ,in, deg, , ,N, , ,W, grid, , , ,N
Point26,xy, , ,in, deg, , ,N, , ,W, grid, , , ,N
Point27,xy, , ,in, deg, , ,N, , ,W, grid, , , ,N
Point28,xy, , ,in, deg, , ,N, , ,W, grid, , , ,N
Point29,xy, , ,in, deg, , ,N, , ,W, grid, , , ,N
Point30,xy, , ,in, deg, , ,N, , ,W, grid, , , ,N
Projection Setup, 0.000000000, 57.000000000, 1.000000000, 500000.00, 0.00,,,,,
Map Feature = MF ; Map Comment = MC These follow if they exist
Track File = TF These follow if they exist
Moving Map Parameters = MM? These follow if they exist
MM0,Yes
MMPNUM,4
MMPXY,1,100,77
MMPXY,2,3907,77
MMPXY,3,3956,2973
MMPXY,4,53,2976
MMPLL,1, 56.000000, 64.000000
MMPLL,2, 58.000000, 64.000000
MMPLL,3, 58.000000, 63.333333
MMPLL,4, 56.000000, 63.333333
MM1B,24.214660
MOP,Map Open Position,0,0
IWH,Map Image Width/Height,4016,3056
