OziExplorer Map Data File Version 2.2
500k--o51-1.gif
500k--o51-1.gif
1 ,Map Code,
Pulkovo 1942 (2),WGS 84, 0.0000, 0.0000,WGS 84
Reserved 1
Reserved 2
Magnetic Variation,,,E
Map Projection,Transverse Mercator,PolyCal,No,AutoCalOnly,No,BSBUseWPX,No
Point01,xy, 166, 85,in, deg, 60, 0.0000,N, 120, 0.0000,E, grid, , , ,N
Point02,xy, 1469, 99,in, deg, 60, 0.0000,N, 121, 30.0000,E, grid, , , ,N
Point03,xy, 2774, 84,in, deg, 60, 0.0000,N, 123, 0.0000,E, grid, , , ,N
Point04,xy, 124, 1827,in, deg, 59, 0.0000,N, 120, 0.0000,E, grid, , , ,N
Point05,xy, 1466, 1841,in, deg, 59, 0.0000,N, 121, 30.0000,E, grid, , , ,N
Point06,xy, 2810, 1824,in, deg, 59, 0.0000,N, 123, 0.0000,E, grid, , , ,N
Point07,xy, 82, 3567,in, deg, 58, 0.0000,N, 120, 0.0000,E, grid, , , ,N
Point08,xy, 1467, 3583,in, deg, 58, 0.0000,N, 121, 30.0000,E, grid, , , ,N
Point09,xy, 2846, 3564,in, deg, 58, 0.0000,N, 123, 0.0000,E, grid, , , ,N
Point10,xy, , ,in, deg, , ,N, , ,W, grid, , , ,N
Point11,xy, , ,in, deg, , ,N, , ,W, grid, , , ,N
Point12,xy, , ,in, deg, , ,N, , ,W, grid, , , ,N
Point13,xy, , ,in, deg, , ,N, , ,W, grid, , , ,N
Point14,xy, , ,in, deg, , ,N, , ,W, grid, , , ,N
Point15,xy, , ,in, deg, , ,N, , ,W, grid, , , ,N
Point16,xy, , ,in, deg, , ,N, , ,W, grid, , , ,N
Point17,xy, , ,in, deg, , ,N, , ,W, grid, , , ,N
Point18,xy, , ,in, deg, , ,N, , ,W, grid, , , ,N
Point19,xy, , ,in, deg, , ,N, , ,W, grid, , , ,N
Point20,xy, , ,in, deg, , ,N, , ,W, grid, , , ,N
Point21,xy, , ,in, deg, , ,N, , ,W, grid, , , ,N
Point22,xy, , ,in, deg, , ,N, , ,W, grid, , , ,N
Point23,xy, , ,in, deg, , ,N, , ,W, grid, , , ,N
Point24,xy, , ,in, deg, , ,N, , ,W, grid, , , ,N
Point25,xy, , ,in, deg, , ,N, , ,W, grid, , , ,N
Point26,xy, , ,in, deg, , ,N, , ,W, grid, , , ,N
Point27,xy, , ,in, deg, , ,N, , ,W, grid, , , ,N
Point28,xy, , ,in, deg, , ,N, , ,W, grid, , , ,N
Point29,xy, , ,in, deg, , ,N, , ,W, grid, , , ,N
Point30,xy, , ,in, deg, , ,N, , ,W, grid, , , ,N
Projection Setup, 0.000000000, 123.000000000, 1.000000000, 500000.00, 0.00,,,,,
Map Feature = MF ; Map Comment = MC These follow if they exist
Track File = TF These follow if they exist
Moving Map Parameters = MM? These follow if they exist
MM0,Yes
MMPNUM,4
MMPXY,1,166,85
MMPXY,2,2774,84
MMPXY,3,2846,3564
MMPXY,4,82,3567
MMPLL,1, 120.000000, 60.000000
MMPLL,2, 123.000000, 60.000000
MMPLL,3, 123.000000, 58.000000
MMPLL,4, 120.000000, 58.000000
MM1B,60.490463
MOP,Map Open Position,0,0
IWH,Map Image Width/Height,2926,3670
