OziExplorer Map Data File Version 2.2
200k--o51-33.gif
200k--o51-33.gif
1 ,Map Code,
Pulkovo 1942 (2),WGS 84, 0.0000, 0.0000,WGS 84
Reserved 1
Reserved 2
Magnetic Variation,,,E
Map Projection,Transverse Mercator,PolyCal,No,AutoCalOnly,No,BSBUseWPX,No
Point01,xy, 97, 76,in, deg, 56, 40.0000,N, 122, 0.0000,E, grid, , , ,N
Point02,xy, 1291, 79,in, deg, 56, 40.0000,N, 122, 30.0000,E, grid, , , ,N
Point03,xy, 2487, 69,in, deg, 56, 40.0000,N, 123, 0.0000,E, grid, , , ,N
Point04,xy, 88, 1519,in, deg, 56, 20.0000,N, 122, 0.0000,E, grid, , , ,N
Point05,xy, 1294, 1516,in, deg, 56, 20.0000,N, 122, 30.0000,E, grid, , , ,N
Point06,xy, 2500, 1512,in, deg, 56, 20.0000,N, 123, 0.0000,E, grid, , , ,N
Point07,xy, 79, 2964,in, deg, 56, 0.0000,N, 122, 0.0000,E, grid, , , ,N
Point08,xy, 1295, 2966,in, deg, 56, 0.0000,N, 122, 30.0000,E, grid, , , ,N
Point09,xy, 2511, 2957,in, deg, 56, 0.0000,N, 123, 0.0000,E, grid, , , ,N
Point10,xy, , ,in, deg, , ,N, , ,W, grid, , , ,N
Point11,xy, , ,in, deg, , ,N, , ,W, grid, , , ,N
Point12,xy, , ,in, deg, , ,N, , ,W, grid, , , ,N
Point13,xy, , ,in, deg, , ,N, , ,W, grid, , , ,N
Point14,xy, , ,in, deg, , ,N, , ,W, grid, , , ,N
Point15,xy, , ,in, deg, , ,N, , ,W, grid, , , ,N
Point16,xy, , ,in, deg, , ,N, , ,W, grid, , , ,N
Point17,xy, , ,in, deg, , ,N, , ,W, grid, , , ,N
Point18,xy, , ,in, deg, , ,N, , ,W, grid, , , ,N
Point19,xy, , ,in, deg, , ,N, , ,W, grid, , , ,N
Point20,xy, , ,in, deg, , ,N, , ,W, grid, , , ,N
Point21,xy, , ,in, deg, , ,N, , ,W, grid, , , ,N
Point22,xy, , ,in, deg, , ,N, , ,W, grid, , , ,N
Point23,xy, , ,in, deg, , ,N, , ,W, grid, , , ,N
Point24,xy, , ,in, deg, , ,N, , ,W, grid, , , ,N
Point25,xy, , ,in, deg, , ,N, , ,W, grid, , , ,N
Point26,xy, , ,in, deg, , ,N, , ,W, grid, , , ,N
Point27,xy, , ,in, deg, , ,N, , ,W, grid, , , ,N
Point28,xy, , ,in, deg, , ,N, , ,W, grid, , , ,N
Point29,xy, , ,in, deg, , ,N, , ,W, grid, , , ,N
Point30,xy, , ,in, deg, , ,N, , ,W, grid, , , ,N
Projection Setup, 0.000000000, 123.000000000, 1.000000000, 500000.00, 0.00,,,,,
Map Feature = MF ; Map Comment = MC These follow if they exist
Track File = TF These follow if they exist
Moving Map Parameters = MM? These follow if they exist
MM0,Yes
MMPNUM,4
MMPXY,1,97,76
MMPXY,2,2487,69
MMPXY,3,2511,2957
MMPXY,4,79,2964
MMPLL,1, 122.000000, 56.666667
MMPLL,2, 123.000000, 56.666667
MMPLL,3, 123.000000, 56.000000
MMPLL,4, 122.000000, 56.000000
MM1B,24.294156
MOP,Map Open Position,0,0
IWH,Map Image Width/Height,2598,3046
