OziExplorer Map Data File Version 2.2
200k--o51-23.gif
200k--o51-23.gif
1 ,Map Code,
Pulkovo 1942 (2),WGS 84, 0.0000, 0.0000,WGS 84
Reserved 1
Reserved 2
Magnetic Variation,,,E
Map Projection,Transverse Mercator,PolyCal,No,AutoCalOnly,No,BSBUseWPX,No
Point01,xy, 102, 85,in, deg, 58, 0.0000,N, 124, 0.0000,E, grid, , , ,N
Point02,xy, 1254, 87,in, deg, 58, 0.0000,N, 124, 30.0000,E, grid, , , ,N
Point03,xy, 2406, 82,in, deg, 58, 0.0000,N, 125, 0.0000,E, grid, , , ,N
Point04,xy, 91, 1526,in, deg, 57, 40.0000,N, 124, 0.0000,E, grid, , , ,N
Point05,xy, 1256, 1527,in, deg, 57, 40.0000,N, 124, 30.0000,E, grid, , , ,N
Point06,xy, 2417, 1525,in, deg, 57, 40.0000,N, 125, 0.0000,E, grid, , , ,N
Point07,xy, 82, 2965,in, deg, 57, 20.0000,N, 124, 0.0000,E, grid, , , ,N
Point08,xy, 1255, 2970,in, deg, 57, 20.0000,N, 124, 30.0000,E, grid, , , ,N
Point09,xy, 2427, 2964,in, deg, 57, 20.0000,N, 125, 0.0000,E, grid, , , ,N
Point10,xy, , ,in, deg, , ,N, , ,W, grid, , , ,N
Point11,xy, , ,in, deg, , ,N, , ,W, grid, , , ,N
Point12,xy, , ,in, deg, , ,N, , ,W, grid, , , ,N
Point13,xy, , ,in, deg, , ,N, , ,W, grid, , , ,N
Point14,xy, , ,in, deg, , ,N, , ,W, grid, , , ,N
Point15,xy, , ,in, deg, , ,N, , ,W, grid, , , ,N
Point16,xy, , ,in, deg, , ,N, , ,W, grid, , , ,N
Point17,xy, , ,in, deg, , ,N, , ,W, grid, , , ,N
Point18,xy, , ,in, deg, , ,N, , ,W, grid, , , ,N
Point19,xy, , ,in, deg, , ,N, , ,W, grid, , , ,N
Point20,xy, , ,in, deg, , ,N, , ,W, grid, , , ,N
Point21,xy, , ,in, deg, , ,N, , ,W, grid, , , ,N
Point22,xy, , ,in, deg, , ,N, , ,W, grid, , , ,N
Point23,xy, , ,in, deg, , ,N, , ,W, grid, , , ,N
Point24,xy, , ,in, deg, , ,N, , ,W, grid, , , ,N
Point25,xy, , ,in, deg, , ,N, , ,W, grid, , , ,N
Point26,xy, , ,in, deg, , ,N, , ,W, grid, , , ,N
Point27,xy, , ,in, deg, , ,N, , ,W, grid, , , ,N
Point28,xy, , ,in, deg, , ,N, , ,W, grid, , , ,N
Point29,xy, , ,in, deg, , ,N, , ,W, grid, , , ,N
Point30,xy, , ,in, deg, , ,N, , ,W, grid, , , ,N
Projection Setup, 0.000000000, 123.000000000, 1.000000000, 500000.00, 0.00,,,,,
Map Feature = MF ; Map Comment = MC These follow if they exist
Track File = TF These follow if they exist
Moving Map Parameters = MM? These follow if they exist
MM0,Yes
MMPNUM,4
MMPXY,1,102,85
MMPXY,2,2406,82
MMPXY,3,2427,2964
MMPXY,4,82,2965
MMPLL,1, 124.000000, 58.000000
MMPLL,2, 125.000000, 58.000000
MMPLL,3, 125.000000, 57.333333
MMPLL,4, 124.000000, 57.333333
MM1B,24.214660
MOP,Map Open Position,0,0
IWH,Map Image Width/Height,2516,3056
