OziExplorer Map Data File Version 2.2
200k--o51-01.gif
200k--o51-01.gif
1 ,Map Code,
Pulkovo 1942 (2),WGS 84, 0.0000, 0.0000,WGS 84
Reserved 1
Reserved 2
Magnetic Variation,,,E
Map Projection,Transverse Mercator,PolyCal,No,AutoCalOnly,No,BSBUseWPX,No
Point01,xy, 129, 90,in, deg, 60, 0.0000,N, 120, 0.0000,E, grid, , , ,N
Point02,xy, 1215, 101,in, deg, 60, 0.0000,N, 120, 30.0000,E, grid, , , ,N
Point03,xy, 2305, 101,in, deg, 60, 0.0000,N, 121, 0.0000,E, grid, , , ,N
Point04,xy, 107, 1535,in, deg, 59, 40.0000,N, 120, 0.0000,E, grid, , , ,N
Point05,xy, 1205, 1550,in, deg, 59, 40.0000,N, 120, 30.0000,E, grid, , , ,N
Point06,xy, 2306, 1549,in, deg, 59, 40.0000,N, 121, 0.0000,E, grid, , , ,N
Point07,xy, 85, 2982,in, deg, 59, 20.0000,N, 120, 0.0000,E, grid, , , ,N
Point08,xy, 1195, 2992,in, deg, 59, 20.0000,N, 120, 30.0000,E, grid, , , ,N
Point09,xy, 2306, 2995,in, deg, 59, 20.0000,N, 121, 0.0000,E, grid, , , ,N
Point10,xy, , ,in, deg, , ,N, , ,W, grid, , , ,N
Point11,xy, , ,in, deg, , ,N, , ,W, grid, , , ,N
Point12,xy, , ,in, deg, , ,N, , ,W, grid, , , ,N
Point13,xy, , ,in, deg, , ,N, , ,W, grid, , , ,N
Point14,xy, , ,in, deg, , ,N, , ,W, grid, , , ,N
Point15,xy, , ,in, deg, , ,N, , ,W, grid, , , ,N
Point16,xy, , ,in, deg, , ,N, , ,W, grid, , , ,N
Point17,xy, , ,in, deg, , ,N, , ,W, grid, , , ,N
Point18,xy, , ,in, deg, , ,N, , ,W, grid, , , ,N
Point19,xy, , ,in, deg, , ,N, , ,W, grid, , , ,N
Point20,xy, , ,in, deg, , ,N, , ,W, grid, , , ,N
Point21,xy, , ,in, deg, , ,N, , ,W, grid, , , ,N
Point22,xy, , ,in, deg, , ,N, , ,W, grid, , , ,N
Point23,xy, , ,in, deg, , ,N, , ,W, grid, , , ,N
Point24,xy, , ,in, deg, , ,N, , ,W, grid, , , ,N
Point25,xy, , ,in, deg, , ,N, , ,W, grid, , , ,N
Point26,xy, , ,in, deg, , ,N, , ,W, grid, , , ,N
Point27,xy, , ,in, deg, , ,N, , ,W, grid, , , ,N
Point28,xy, , ,in, deg, , ,N, , ,W, grid, , , ,N
Point29,xy, , ,in, deg, , ,N, , ,W, grid, , , ,N
Point30,xy, , ,in, deg, , ,N, , ,W, grid, , , ,N
Projection Setup, 0.000000000, 123.000000000, 1.000000000, 500000.00, 0.00,,,,,
Map Feature = MF ; Map Comment = MC These follow if they exist
Track File = TF These follow if they exist
Moving Map Parameters = MM? These follow if they exist
MM0,Yes
MMPNUM,4
MMPXY,1,129,90
MMPXY,2,2305,101
MMPXY,3,2306,2995
MMPXY,4,85,2982
MMPLL,1, 120.000000, 60.000000
MMPLL,2, 121.000000, 60.000000
MMPLL,3, 121.000000, 59.333333
MMPLL,4, 120.000000, 59.333333
MM1B,23.994812
MOP,Map Open Position,0,0
IWH,Map Image Width/Height,2392,3084
