OziExplorer Map Data File Version 2.2
100k--o51-137.gif
100k--o51-137.gif
1 ,Map Code,
Pulkovo 1942 (2),WGS 84, 0.0000, 0.0000,WGS 84
Reserved 1
Reserved 2
Magnetic Variation,,,E
Map Projection,Transverse Mercator,PolyCal,No,AutoCalOnly,No,BSBUseWPX,No
Point01,xy, 104, 87,in, deg, 56, 20.0000,N, 122, 0.0000,E, grid, , , ,N
Point02,xy, 1324, 93,in, deg, 56, 20.0000,N, 122, 15.0000,E, grid, , , ,N
Point03,xy, 2541, 92,in, deg, 56, 20.0000,N, 122, 30.0000,E, grid, , , ,N
Point04,xy, 96, 1550,in, deg, 56, 10.0000,N, 122, 0.0000,E, grid, , , ,N
Point05,xy, 1321, 1551,in, deg, 56, 10.0000,N, 122, 15.0000,E, grid, , , ,N
Point06,xy, 2543, 1557,in, deg, 56, 10.0000,N, 122, 30.0000,E, grid, , , ,N
Point07,xy, 87, 3010,in, deg, 56, 0.0000,N, 122, 0.0000,E, grid, , , ,N
Point08,xy, 1316, 3017,in, deg, 56, 0.0000,N, 122, 15.0000,E, grid, , , ,N
Point09,xy, 2545, 3017,in, deg, 56, 0.0000,N, 122, 30.0000,E, grid, , , ,N
Point10,xy, , ,in, deg, , ,N, , ,W, grid, , , ,N
Point11,xy, , ,in, deg, , ,N, , ,W, grid, , , ,N
Point12,xy, , ,in, deg, , ,N, , ,W, grid, , , ,N
Point13,xy, , ,in, deg, , ,N, , ,W, grid, , , ,N
Point14,xy, , ,in, deg, , ,N, , ,W, grid, , , ,N
Point15,xy, , ,in, deg, , ,N, , ,W, grid, , , ,N
Point16,xy, , ,in, deg, , ,N, , ,W, grid, , , ,N
Point17,xy, , ,in, deg, , ,N, , ,W, grid, , , ,N
Point18,xy, , ,in, deg, , ,N, , ,W, grid, , , ,N
Point19,xy, , ,in, deg, , ,N, , ,W, grid, , , ,N
Point20,xy, , ,in, deg, , ,N, , ,W, grid, , , ,N
Point21,xy, , ,in, deg, , ,N, , ,W, grid, , , ,N
Point22,xy, , ,in, deg, , ,N, , ,W, grid, , , ,N
Point23,xy, , ,in, deg, , ,N, , ,W, grid, , , ,N
Point24,xy, , ,in, deg, , ,N, , ,W, grid, , , ,N
Point25,xy, , ,in, deg, , ,N, , ,W, grid, , , ,N
Point26,xy, , ,in, deg, , ,N, , ,W, grid, , , ,N
Point27,xy, , ,in, deg, , ,N, , ,W, grid, , , ,N
Point28,xy, , ,in, deg, , ,N, , ,W, grid, , , ,N
Point29,xy, , ,in, deg, , ,N, , ,W, grid, , , ,N
Point30,xy, , ,in, deg, , ,N, , ,W, grid, , , ,N
Projection Setup, 0.000000000, 123.000000000, 1.000000000, 500000.00, 0.00,,,,,
Map Feature = MF ; Map Comment = MC These follow if they exist
Track File = TF These follow if they exist
Moving Map Parameters = MM? These follow if they exist
MM0,Yes
MMPNUM,4
MMPXY,1,84,99
MMPXY,2,2544,99
MMPXY,3,2544,3005
MMPXY,4,84,3005
MMPLL,1, 121.995747, 56.331921
MMPLL,2, 122.500504, 56.332661
MMPLL,3, 122.499772, 56.001377
MMPLL,4, 121.999341, 56.000655
MM1B,12.687131
MOP,Map Open Position,0,0
IWH,Map Image Width/Height,2628,3104
