OziExplorer Map Data File Version 2.2
100k--o51-125.gif
100k--o51-125.gif
1 ,Map Code,
Pulkovo 1942 (2),WGS 84, 0.0000, 0.0000,WGS 84
Reserved 1
Reserved 2
Magnetic Variation,,,E
Map Projection,Transverse Mercator,PolyCal,No,AutoCalOnly,No,BSBUseWPX,No
Point01,xy, 98, 84,in, deg, 56, 40.0000,N, 122, 0.0000,E, grid, , , ,N
Point02,xy, 1306, 84,in, deg, 56, 40.0000,N, 122, 15.0000,E, grid, , , ,N
Point03,xy, 2512, 84,in, deg, 56, 40.0000,N, 122, 30.0000,E, grid, , , ,N
Point04,xy, 94, 1544,in, deg, 56, 30.0000,N, 122, 0.0000,E, grid, , , ,N
Point05,xy, 1307, 1546,in, deg, 56, 30.0000,N, 122, 15.0000,E, grid, , , ,N
Point06,xy, 2517, 1542,in, deg, 56, 30.0000,N, 122, 30.0000,E, grid, , , ,N
Point07,xy, 88, 3006,in, deg, 56, 20.0000,N, 122, 0.0000,E, grid, , , ,N
Point08,xy, 1308, 3006,in, deg, 56, 20.0000,N, 122, 15.0000,E, grid, , , ,N
Point09,xy, 2522, 3008,in, deg, 56, 20.0000,N, 122, 30.0000,E, grid, , , ,N
Point10,xy, , ,in, deg, , ,N, , ,W, grid, , , ,N
Point11,xy, , ,in, deg, , ,N, , ,W, grid, , , ,N
Point12,xy, , ,in, deg, , ,N, , ,W, grid, , , ,N
Point13,xy, , ,in, deg, , ,N, , ,W, grid, , , ,N
Point14,xy, , ,in, deg, , ,N, , ,W, grid, , , ,N
Point15,xy, , ,in, deg, , ,N, , ,W, grid, , , ,N
Point16,xy, , ,in, deg, , ,N, , ,W, grid, , , ,N
Point17,xy, , ,in, deg, , ,N, , ,W, grid, , , ,N
Point18,xy, , ,in, deg, , ,N, , ,W, grid, , , ,N
Point19,xy, , ,in, deg, , ,N, , ,W, grid, , , ,N
Point20,xy, , ,in, deg, , ,N, , ,W, grid, , , ,N
Point21,xy, , ,in, deg, , ,N, , ,W, grid, , , ,N
Point22,xy, , ,in, deg, , ,N, , ,W, grid, , , ,N
Point23,xy, , ,in, deg, , ,N, , ,W, grid, , , ,N
Point24,xy, , ,in, deg, , ,N, , ,W, grid, , , ,N
Point25,xy, , ,in, deg, , ,N, , ,W, grid, , , ,N
Point26,xy, , ,in, deg, , ,N, , ,W, grid, , , ,N
Point27,xy, , ,in, deg, , ,N, , ,W, grid, , , ,N
Point28,xy, , ,in, deg, , ,N, , ,W, grid, , , ,N
Point29,xy, , ,in, deg, , ,N, , ,W, grid, , , ,N
Point30,xy, , ,in, deg, , ,N, , ,W, grid, , , ,N
Projection Setup, 0.000000000, 123.000000000, 1.000000000, 500000.00, 0.00,,,,,
Map Feature = MF ; Map Comment = MC These follow if they exist
Track File = TF These follow if they exist
Moving Map Parameters = MM? These follow if they exist
MM0,Yes
MMPNUM,4
MMPXY,1,84,99
MMPXY,2,2531,99
MMPXY,3,2531,3001
MMPXY,4,84,3001
MMPLL,1, 121.996918, 56.664812
MMPLL,2, 122.503932, 56.664816
MMPLL,3, 122.501594, 56.333838
MMPLL,4, 121.998977, 56.333845
MM1B,12.699555
MOP,Map Open Position,0,0
IWH,Map Image Width/Height,2615,3100
