OziExplorer Map Data File Version 2.2
100k--o51-123.gif
100k--o51-123.gif
1 ,Map Code,
Pulkovo 1942 (2),WGS 84, 0.0000, 0.0000,WGS 84
Reserved 1
Reserved 2
Magnetic Variation,,,E
Map Projection,Transverse Mercator,PolyCal,No,AutoCalOnly,No,BSBUseWPX,No
Point01,xy, 98, 98,in, deg, 56, 40.0000,N, 121, 0.0000,E, grid, , , ,N
Point02,xy, 1304, 100,in, deg, 56, 40.0000,N, 121, 15.0000,E, grid, , , ,N
Point03,xy, 2508, 97,in, deg, 56, 40.0000,N, 121, 30.0000,E, grid, , , ,N
Point04,xy, 95, 1560,in, deg, 56, 30.0000,N, 121, 0.0000,E, grid, , , ,N
Point05,xy, 1306, 1559,in, deg, 56, 30.0000,N, 121, 15.0000,E, grid, , , ,N
Point06,xy, 2518, 1560,in, deg, 56, 30.0000,N, 121, 30.0000,E, grid, , , ,N
Point07,xy, 94, 3024,in, deg, 56, 20.0000,N, 121, 0.0000,E, grid, , , ,N
Point08,xy, 1310, 3024,in, deg, 56, 20.0000,N, 121, 15.0000,E, grid, , , ,N
Point09,xy, 2526, 3022,in, deg, 56, 20.0000,N, 121, 30.0000,E, grid, , , ,N
Point10,xy, , ,in, deg, , ,N, , ,W, grid, , , ,N
Point11,xy, , ,in, deg, , ,N, , ,W, grid, , , ,N
Point12,xy, , ,in, deg, , ,N, , ,W, grid, , , ,N
Point13,xy, , ,in, deg, , ,N, , ,W, grid, , , ,N
Point14,xy, , ,in, deg, , ,N, , ,W, grid, , , ,N
Point15,xy, , ,in, deg, , ,N, , ,W, grid, , , ,N
Point16,xy, , ,in, deg, , ,N, , ,W, grid, , , ,N
Point17,xy, , ,in, deg, , ,N, , ,W, grid, , , ,N
Point18,xy, , ,in, deg, , ,N, , ,W, grid, , , ,N
Point19,xy, , ,in, deg, , ,N, , ,W, grid, , , ,N
Point20,xy, , ,in, deg, , ,N, , ,W, grid, , , ,N
Point21,xy, , ,in, deg, , ,N, , ,W, grid, , , ,N
Point22,xy, , ,in, deg, , ,N, , ,W, grid, , , ,N
Point23,xy, , ,in, deg, , ,N, , ,W, grid, , , ,N
Point24,xy, , ,in, deg, , ,N, , ,W, grid, , , ,N
Point25,xy, , ,in, deg, , ,N, , ,W, grid, , , ,N
Point26,xy, , ,in, deg, , ,N, , ,W, grid, , , ,N
Point27,xy, , ,in, deg, , ,N, , ,W, grid, , , ,N
Point28,xy, , ,in, deg, , ,N, , ,W, grid, , , ,N
Point29,xy, , ,in, deg, , ,N, , ,W, grid, , , ,N
Point30,xy, , ,in, deg, , ,N, , ,W, grid, , , ,N
Projection Setup, 0.000000000, 123.000000000, 1.000000000, 500000.00, 0.00,,,,,
Map Feature = MF ; Map Comment = MC These follow if they exist
Track File = TF These follow if they exist
Moving Map Parameters = MM? These follow if they exist
MM0,Yes
MMPNUM,4
MMPXY,1,84,100
MMPXY,2,2539,100
MMPXY,3,2539,3015
MMPXY,4,84,3015
MMPLL,1, 120.997159, 56.666393
MMPLL,2, 121.506271, 56.666284
MMPLL,3, 121.502673, 56.334084
MMPLL,4, 120.997994, 56.334214
MM1B,12.707993
MOP,Map Open Position,0,0
IWH,Map Image Width/Height,2623,3115
